BEGIN:VCALENDAR
VERSION:2.0
PRODID:-//www.loftkoeln.de - ECPv5.14.2.1//NONSGML v1.0//EN
CALSCALE:GREGORIAN
METHOD:PUBLISH
X-WR-CALNAME:www.loftkoeln.de
X-ORIGINAL-URL:https://www.loftkoeln.de
X-WR-CALDESC:Veranstaltungen für www.loftkoeln.de
BEGIN:VTIMEZONE
TZID:Europe/Berlin
BEGIN:DAYLIGHT
TZOFFSETFROM:+0100
TZOFFSETTO:+0200
TZNAME:CEST
DTSTART:20230326T010000
END:DAYLIGHT
BEGIN:STANDARD
TZOFFSETFROM:+0200
TZOFFSETTO:+0100
TZNAME:CET
DTSTART:20231029T010000
END:STANDARD
END:VTIMEZONE
BEGIN:VEVENT
DTSTART;TZID=Europe/Berlin:20230312T200000
DTEND;TZID=Europe/Berlin:20230312T200000
DTSTAMP:20260422T161838
CREATED:20230202T164126Z
LAST-MODIFIED:20230305T121115Z
UID:22913-1678651200-1678651200@www.loftkoeln.de
SUMMARY:Calvin Lennig’s „Umweg“ | live recording
DESCRIPTION:Julius van Rhee – Flöte & Saxophon\nBenedikt Jäckle – Flöte & Tenorsaxophon\n\nSimon Bräumer – Perkussion\nCalvin Lennig – Bass & Komposition \n& special guest: Alexander Florin – Gitarre\n\n\n\n(english: see below) \nInformationen zu den Preisen\, Karten-Reservierungen und den Öffnungszeiten finden Sie hier.\n\n\n\n\nWie sollen wir Worte nutzen\, um dieses Projekt zu beschreiben\, wenn unsere Muttersprache doch der Klang der Musik ist?\nMit diesem Projekt taucht der Kölner Bassist Calvin Lennig tief in die eigene Gefühlswelt ein\, lässt sich dort treiben und versucht\, diese einzigartigen Momentaufnahmen in instrumentale Musik zu übersetzen.\nAls Kommunikationspartner für diesen Prozess hat er sich vertraute Kollegen mit ins Boot geholt\, um den gemeinsamen Moment der Improvisation miteinander zu zelebrieren. \nhttps://calvinlennig.com/ \n\n\n\nJulius van Rhee – flute & saxophone\nBenedikt Jäckle – flute & tenor saxophone\nSimon Bräumer – percussion\nCalvin Lennig – bass & composition \n& special guest: Alexander Florin – guitar\n \nInformation about prices\, ticket reservations and our opening times can be found here. \nHow should we use words to describe this project\, when our mother tongue is the sound of music?\nWith this project\, Cologne bassist Calvin Lennig dives deep into his own emotional world\, lets himself drift there and tries to translate these unique snapshots into instrumental music.\nAs communication partners for this process\, he has brought trusted colleagues on board to celebrate the shared moment of improvisation with each other.
URL:https://www.loftkoeln.de/event/calvin-lennigs-umweg/
END:VEVENT
END:VCALENDAR