BEGIN:VCALENDAR
VERSION:2.0
PRODID:-//www.loftkoeln.de - ECPv5.14.2.1//NONSGML v1.0//EN
CALSCALE:GREGORIAN
METHOD:PUBLISH
X-WR-CALNAME:www.loftkoeln.de
X-ORIGINAL-URL:https://www.loftkoeln.de
X-WR-CALDESC:Veranstaltungen für www.loftkoeln.de
BEGIN:VTIMEZONE
TZID:UTC
BEGIN:STANDARD
TZOFFSETFROM:+0000
TZOFFSETTO:+0000
TZNAME:UTC
DTSTART:20120101T000000
END:STANDARD
END:VTIMEZONE
BEGIN:VEVENT
DTSTART;TZID=UTC:20120418T203000
DTEND;TZID=UTC:20120418T203000
DTSTAMP:20260424T104836
CREATED:20171019T065149Z
LAST-MODIFIED:20171019T065943Z
UID:5643-1334781000-1334781000@www.loftkoeln.de
SUMMARY:Brink Man Ship:  CD-Release „Instant Replay“ urban electronic jazz aus der Schweiz
DESCRIPTION:Jan Galega Brönnimann – kontrabassclarinet\, bassclarinet\, electronics\nRené Reimann – guitar\, electronics\, Emanuel Schnyder – electric bass\nChristoph Staudenmann – drums\, computer \n\n„Instant Replay“\, das sechste Album von Brink Man Ship\, ist das Endergebnis einer Internet basierten Kollektivkomposition. Wie der Name sagt\, „Instant Replay“ ist eine Rückblende\, die zukunftsorientiert und kompromisslos nach vorne spielt. Brink Man Ship hat die Gunst des Risikos genutzt und frei aus der Situation heraus entstandene Momente eingefangen und weiterentwickelt. Lassen Sie sich vom neusten Akt von Brink Man Ship’s Risikopolitik überraschen. Mit „Instant Replay“ bricht Brink Man Ship zu neuen Ufern auf. Drei Jahre nach dem live-Album „Willisau“ präsentiert die Band ein ausgereiftes Werk voller Ideen\, verklärter Melodien und vertrackter Beats. Das Spektrum reicht von filigranen Flüstermomenten bis zu brachialen Gewitterausbrüchen. Es entsteht ein urbaner Mix voller Gegensätze – die Musik pendelt zwischen Wohlklang und Zerrissenheit\, den Widersprüchen unseres Alltags. Seit vierzehn Jahren würdigt Brink Man Ship die Geschichte des Jazz durch dessen reflexive Weiterentwicklung zur Musik des 21. Jahrhunderts. Wichtige Anregungen bezieht Brink Man Ship seit jeher von ihren Live-Auftritten. Durch Hunderte von Konzerten in Clubs und an internationalen Jazzfestivals hat sich die Band Anerkennung im In- und Ausland erworben
URL:https://www.loftkoeln.de/event/brink-man-ship-cd-release-%e2%80%9einstant-replay%e2%80%9c-urban-electronic-jazz-aus-der-schweiz/
END:VEVENT
END:VCALENDAR