BEGIN:VCALENDAR
VERSION:2.0
PRODID:-//www.loftkoeln.de - ECPv5.14.2.1//NONSGML v1.0//EN
CALSCALE:GREGORIAN
METHOD:PUBLISH
X-WR-CALNAME:www.loftkoeln.de
X-ORIGINAL-URL:https://www.loftkoeln.de
X-WR-CALDESC:Veranstaltungen für www.loftkoeln.de
BEGIN:VTIMEZONE
TZID:UTC
BEGIN:STANDARD
TZOFFSETFROM:+0000
TZOFFSETTO:+0000
TZNAME:UTC
DTSTART:20180101T000000
END:STANDARD
END:VTIMEZONE
BEGIN:VEVENT
DTSTART;TZID=UTC:20180609T203000
DTEND;TZID=UTC:20180609T203000
DTSTAMP:20260424T121610
CREATED:20180426T070406Z
LAST-MODIFIED:20180508T102028Z
UID:8370-1528576200-1528576200@www.loftkoeln.de
SUMMARY:Bräumer / Klewer / Eftychidou
DESCRIPTION:Pascal Klewer – Trompete\nSimon Bräumer – Schlagzeug\n\nSofia Eftychidou – Bass \n\nDas Deutsch-Griechische Jazztrio Bräumer/Klewer/Eftychidou fand sich in Köln an der Musikhochschule\, an der sie alle Jazz studieren. \n\n„Die Reduzierung auf die drei Instrumente\, ohne ein Harmonieinstrument\, ist eine Herausforderung und eine Erleichterung zugleich“ \, so die Musiker. Die ständige Kommunikation und die Sprache der Improvisation\, sowie vollstes Vertrauen ineinander führt diese Band zu einem Klangerlebnis zusammen\, das seinesgleichen sucht. Ihre Musik ist in einem Moment kraftvoll\, nicht zu bändigen und im nächsten Moment zerbrechlich und leicht wie eine Feder. \nDie Band tourte bereits durch zahlreiche renommierte Clubs in Europa\, wie dem Bflat Berlin\, Blue Note Posen (PL) \, PiecArt Krakau (PL)\, Music Lab Brno (CZ) und vielen weiteren wichtigen Spielstätten. \nwww.pascalklewer.com
URL:https://www.loftkoeln.de/event/braumer-klewer-eftychidou/
END:VEVENT
END:VCALENDAR