BEGIN:VCALENDAR
VERSION:2.0
PRODID:-//www.loftkoeln.de - ECPv5.14.2.1//NONSGML v1.0//EN
CALSCALE:GREGORIAN
METHOD:PUBLISH
X-WR-CALNAME:www.loftkoeln.de
X-ORIGINAL-URL:https://www.loftkoeln.de
X-WR-CALDESC:Veranstaltungen für www.loftkoeln.de
BEGIN:VTIMEZONE
TZID:UTC
BEGIN:STANDARD
TZOFFSETFROM:+0000
TZOFFSETTO:+0000
TZNAME:UTC
DTSTART:20140101T000000
END:STANDARD
END:VTIMEZONE
BEGIN:VEVENT
DTSTART;TZID=UTC:20141125T203000
DTEND;TZID=UTC:20141125T203000
DTSTAMP:20260423T031434
CREATED:20170322T084527Z
LAST-MODIFIED:20170322T084527Z
UID:4334-1416947400-1416947400@www.loftkoeln.de
SUMMARY:BOUNCE
DESCRIPTION:Jonathan Maag – sax.\nJulian Hesse – trp.\nAndrey A. Tatarinets – bass\nDomi Chansorn – drums \n\nDas mehrfach preisgekrönte Quartett der vier Freunde aus der Schweizer Hauptstadt jagt den Moment\, in dem Sound zu einem körperlichen Erlebnis wird\, zu einer vibrierenden Synergie aus Musiker\, Musik und Zuhörer – in der Sprache des Jazz zum BOUNCE.  Groovy\, abwechslungsreich und alles andere als geschwätzig verschmelzen die Schweizer Senkrechtstarter sich selbst\, die Musik und ihre Zuhörer sog artig\, unwiderstehlich und elektrifizierend\, aber immer akustisch\, zu einer „bouncenden Kraft“. Dabei balancieren sie diese einzigartige Mischung aus Avantgarde\, Rockelementen und Free Jazz mit oft grosser Risikobereitschaft zu einer ureigenen Klangsprache aus\, die gut – sogar sehr gut – ohne ein Harmonieinstrument auskommt. \nDie Band wurde für ihre erlebbare Musik 2013 mit dem Jazzpreis der Zürcher Kantonalbank ausgezeichnet und nur 1 Jahr später in den Förderpreis Suisse Diagonales 2014/2015 gewählt. Und so wie ein Preis dem anderen folgt\, beglückt BOUNCE ihre Zuhörerschaft 2015 mit ihrem 2. Studioalbum\, auf welches man nach ihrem Debütalbum „Curiosities“ (2013) äusserst gespannt sein darf.
URL:https://www.loftkoeln.de/event/bounce/
END:VEVENT
END:VCALENDAR