BEGIN:VCALENDAR
VERSION:2.0
PRODID:-//www.loftkoeln.de - ECPv5.14.2.1//NONSGML v1.0//EN
CALSCALE:GREGORIAN
METHOD:PUBLISH
X-WR-CALNAME:www.loftkoeln.de
X-ORIGINAL-URL:https://www.loftkoeln.de
X-WR-CALDESC:Veranstaltungen für www.loftkoeln.de
BEGIN:VTIMEZONE
TZID:Europe/Berlin
BEGIN:DAYLIGHT
TZOFFSETFROM:+0100
TZOFFSETTO:+0200
TZNAME:CEST
DTSTART:20240331T010000
END:DAYLIGHT
BEGIN:STANDARD
TZOFFSETFROM:+0200
TZOFFSETTO:+0100
TZNAME:CET
DTSTART:20241027T010000
END:STANDARD
END:VTIMEZONE
BEGIN:VEVENT
DTSTART;TZID=Europe/Berlin:20240425T200000
DTEND;TZID=Europe/Berlin:20240425T200000
DTSTAMP:20260423T125831
CREATED:20240306T141400Z
LAST-MODIFIED:20240308T095401Z
UID:26491-1714075200-1714075200@www.loftkoeln.de
SUMMARY:Blanca Núñez Quinteto feat. Bruno Müller | Releasekonzert: „En Tierra“
DESCRIPTION:Blanca Núñez – Gesang\, Gitarre\, Piano\, Komposition & Arrangements\nNorman Peplow – Piano\, Synthesizer\, Arrangements\nJulian Bossert – Altsaxophon\, Querflöte\, Klarinette\nJakob Kühnemann – Bass\nAlfonso Garrido – Schlagzeug & Percussion \nspecial guest: Bruno Müller – Gitarre \n\n(english: see below) \nAb Januar 2024 beginnen alle Konzerte im LOFT um 20.00 Uhr.\nAusnahmen – z.B. Sonntags – sind möglich.\nWeitere Informationen zu den Preisen\, Karten-Reservierungen und den Öffnungszeiten finden Sie hier.\n\nBlanca Núñez Quinteto © Marcos Angeloni\nBlanca Núñez ist Sängerin\, Songwriter und Multiinstrumentalistin\, lernte klassisches Klavier und Geige am Conservatorio Superior de Música Joaquín Rodrigo in Valencia und studierte später Jazzgesang an der Hochschule für Musik und Tanz Köln.\nIhrer Muttersprache bleibt sie in ihren Texten treu\, denn das Erzählerische ist der Grund\, warum sie die Musik drumherum webt. Zwischen Dezember 2019 und März 2020 wurde das Quintett Album En Tierra mit Double Moon Records dank erfolgreichem Crowdfunding produziert.\nDas Erscheinungsdatum stand auch fest: 29. Mai 2020. \nWas zwischen Produktion und Veröffentlichung passieren sollte\, konnte niemand ahnen…\nUnd so wurde das geplante Releasekonzert mit anschließender Tour nie verwirklicht. En Tierra (an Land) ist das Album\, das Blancas Auswanderung nach Deutschland in 2003 nachträglich verarbeitet. Für ihr Vorhaben stellte sie das Quintett mit Norman Peplow\, Julian Bossert\, Jakob Kühnemann und Alfonso Garrido zusammen\, das durch Bruno Müller als Gast im Studio ergänzt wurde. Durch die unerwartete Pandemie bekommt allerdings diese Sammlung an Songs über das Verlassen des festen Bodens eine ganz neue Bedeutung. Denn als Musikerin und zweifache Mutter ließ sich die Kunst nach so einer Krise nicht so schnell wieder auffangen. \nAn diesem Abend kommen zum ersten Mal seit der Aufnahme alle 6 Musiker zusammen auf die Bühne. Es wird gleichzeitig Präsentation und 4-jähriges Jubiläum des Albums\, dazu kommen Uraufführungen einiger brandneuer Stücke. \n„Die 38-Jährige [inzwischen 42] hat eine angenehme\, ungekünstelte Singstimme. Ihre Melodien sind klar\, direkt\, fassbar – und Spanisch ist eine wunderbare Sprache für Vokalisten. Man könnte sich diese zwei Handvoll Lieder in sehr verschiedenen Arrangements vorstellen: folkloristisch\, poppig\, rockig\, sogar klassisch. Núñez‘ Band gibt ihnen jedoch einen ganz eigenen Zauber\, umrahmt sie mit Jazzdeutungen\, harmonischen Erweiterungen und klugen Einfällen.“\nHans-Jürgen Schaal\, JazzThing 135 \n\nKlingt so: \n\n\n\n\nBlanca Núñez – vocals\, guitar\, piano\, composition & arrangements\nNorman Peplow – piano\, synthesiser\, arrangements\nJulian Bossert – alto saxophone\, flute\, clarinet\nJakob Kühnemann – bass\nAlfonso Garrido – drums & percussion \nspecial guest: Bruno Müller – guitar  \nFrom January 2024 on\, the concerts at the LOFT start round 8.00 pm\nExceptions – e.g. on Sundays – are possible.\nFurther information about prices\, ticket reservations and our opening times can be found here. \nBlanca Núñez is a singer\, songwriter and multi-instrumentalist who learnt classical piano and violin at the Conservatorio Superior de Música Joaquín Rodrigo in Valencia and later studied jazz singing at the Cologne University of Music and Dance.\nShe remains true to her mother tongue in her lyrics\, because the narrative is the reason why she weaves the music around it. Between December 2019 and March 2020\, the quintet album En Tierra was produced with Double Moon Records thanks to successful crowdfunding.\nThe release date was also set: 29 May 2020. \nNobody could have guessed what would happen between production and release…\nAnd so the planned release concert and subsequent tour never materialised. En Tierra (on land) is the album that subsequently deals with Blanca’s emigration to Germany in 2003. For her project\, she put together a quintet with Norman Peplow\, Julian Bossert\, Jakob Kühnemann and Alfonso Garrido\, who were joined in the studio by Bruno Müller as a guest. However\, the unexpected pandemic has given this collection of songs about leaving solid ground a whole new meaning. After all\, as a musician and mother of two\, art was not so easy to pick up again after such a crisis. \nOn this evening\, all 6 musicians will be on stage together for the first time since the recording. It will be both a presentation and a 4-year anniversary of the album\, plus world premieres of some brand new pieces. \n„The 38-year-old [now 42] has a pleasant\, unaffected singing voice. Her melodies are clear\, direct\, tangible – and Spanish is a wonderful language for vocalists. You could imagine these two handfuls of songs in very different arrangements: folk\, pop\, rock\, even classical. But Núñez‘ band gives them a magic all of their own\, framing them with jazz interpretations\, harmonic extensions and clever ideas.“\nHans-Jürgen Schaal\, JazzThing 135
URL:https://www.loftkoeln.de/event/blanca-nunez-quinteto-feat-bruno-mueller-releasekonzert-en-tierra/
END:VEVENT
END:VCALENDAR