BEGIN:VCALENDAR
VERSION:2.0
PRODID:-//www.loftkoeln.de - ECPv5.14.2.1//NONSGML v1.0//EN
CALSCALE:GREGORIAN
METHOD:PUBLISH
X-WR-CALNAME:www.loftkoeln.de
X-ORIGINAL-URL:https://www.loftkoeln.de
X-WR-CALDESC:Veranstaltungen für www.loftkoeln.de
BEGIN:VTIMEZONE
TZID:Europe/Berlin
BEGIN:DAYLIGHT
TZOFFSETFROM:+0100
TZOFFSETTO:+0200
TZNAME:CEST
DTSTART:20220327T010000
END:DAYLIGHT
BEGIN:STANDARD
TZOFFSETFROM:+0200
TZOFFSETTO:+0100
TZNAME:CET
DTSTART:20221030T010000
END:STANDARD
END:VTIMEZONE
BEGIN:VEVENT
DTSTART;TZID=Europe/Berlin:20221119T203000
DTEND;TZID=Europe/Berlin:20221119T203000
DTSTAMP:20260424T104125
CREATED:20221005T052702Z
LAST-MODIFIED:20221113T123428Z
UID:21904-1668889800-1668889800@www.loftkoeln.de
SUMMARY:between expectations: Bauer/Lucchese/Hoyer | live recording
DESCRIPTION:Maria Lucchese – Performance\nMatthias Bauer – Kontrabass\nRalf Hoyer – Klangregie \n\n(english: see below) \nInformationen zu den Preisen\, Karten-Reservierungen und den Öffnungszeiten finden Sie hier.\nDrei Akteure der Berliner Freien Szene haben sich für ein Programm zwischen Komposition und Improvisation zusammengefunden. Neben Kompositionen von Tom Johnson\, Georg Katzer und Ralf Hoyer stehen Improvisationen und Performances von Maria Lucchese und Matthias Bauer. In fast allen Stücken spielt Sprache eine wichtige Rolle\, sei es als Kommentar zum Zeitgeschehen\, als ironische Randbemerkung oder lediglich in ihrer phonetisch-sinnlichen Eigenschaft. Dabei sind die Übergänge zwischen Instrument\, elektronischem Klang und menschlicher Stimme oft fließend. \n\n\nGetreu dem Motto „Die Wiese der Musik ist groß und bunt\, mit vielen merkwürdigen Gewächsen\, jedes ist auf seine Weise schön und darf blühen…“ (Ralf Hoyer) ist dies ein spannender\, abwechslungsreicher und vergnüglicher Abend zwischen den Erwartungen – between expectations. \n\n\nTom Johnson\nMISSERFOLG – ein sehr schwieriges Stück für Kontrabass Solo \nRalf Hoyer\n4 WORTE 09 (4-kanalige elektroakustische Komposition)\nAbwrackprämie \nkriegsähnliche Zustände \nSchweinegrippe \nbad bank \nGeorg Katzer\nPANDORAS KISTE für Kontrabass mit Stimme \nMaria Lucchese\nSTIMMPERFORMANCE mit obligatem ocean-drum \nRalf Hoyer\n4 ENTFALTUNGEN für Kontrabass\, Crash-Becken und 4-Kanal-Zuspiel \n_________ \nMatthias Bauer und Maria Lucchese\nTHE ALCHEMIST’S LABORATORY (Performance)\nAusschnitt unter: https://www.youtube.com/watch?v=mf5uwhXtj8U \nwww.bauerbass.de\nwww.marialucchese.de\nwww.ralfhoyer.de \n\nMaria Lucchese – performance\nMatthias Bauer – bass\nRalf Hoyer – director\n\nInformation about prices\, ticket reservations and our opening times can be found here. \nThree actors from the Berlin independent scene have come together for a program between composition and improvisation. Alongside compositions by Tom Johnson\, Georg Katzer and Ralf Hoyer are improvisations and performances by Maria Lucchese and Matthias Bauer. Language plays an important role in almost all of the pieces\, whether as a commentary on current events\, as an ironic aside\, or merely in its phonetic-sensual quality. The transitions between instrument\, electronic sound and human voice are often fluid. \nTrue to the theme: „The meadow of music is large and colorful\, with many strange plants\, each is beautiful in its own way and may bloom…“ (Ralf Hoyer) this is an exciting\, varied and enjoyable evening between expectations – between expectations. \n  \n  \n 
URL:https://www.loftkoeln.de/event/between-expectations-bauer-lucchese-hoyer-2/
END:VEVENT
END:VCALENDAR