BEGIN:VCALENDAR
VERSION:2.0
PRODID:-//www.loftkoeln.de - ECPv5.14.2.1//NONSGML v1.0//EN
CALSCALE:GREGORIAN
METHOD:PUBLISH
X-WR-CALNAME:www.loftkoeln.de
X-ORIGINAL-URL:https://www.loftkoeln.de
X-WR-CALDESC:Veranstaltungen für www.loftkoeln.de
BEGIN:VTIMEZONE
TZID:Europe/Berlin
BEGIN:DAYLIGHT
TZOFFSETFROM:+0100
TZOFFSETTO:+0200
TZNAME:CEST
DTSTART:20250330T010000
END:DAYLIGHT
BEGIN:STANDARD
TZOFFSETFROM:+0200
TZOFFSETTO:+0100
TZNAME:CET
DTSTART:20251026T010000
END:STANDARD
END:VTIMEZONE
BEGIN:VEVENT
DTSTART;TZID=Europe/Berlin:20251120T200000
DTEND;TZID=Europe/Berlin:20251120T200000
DTSTAMP:20260424T135723
CREATED:20251001T055145Z
LAST-MODIFIED:20251006T055316Z
UID:31020-1763668800-1763668800@www.loftkoeln.de
SUMMARY:Berg · Ramond · Soll · Tegen
DESCRIPTION:  \nHenning Berg – Posaune\nChristian Ramond – Bass\nHendrik Soll – Piano\nNils Tegen – Schlagzeug\n\n(english: see below) \nWeitere Informationen zu den Preisen\, Karten-Reservierungen und den Öffnungszeiten finden Sie hier.\n\nBerg/Soll/Ramond/Tegen\nAuf unserer CD Seven Lively Conversations von 2012 gibt es zwei Versionen desselben Standards\, die nicht unterschiedlicher sein könnten.\nSeit vielen Jahren jammen\, proben und spielen wir so in dieser Band: wir gehen ohne Absprachen in jedes Stück und freuen uns\, dass wir nicht wissen\, was jetzt passieren wird.\nUnd am schönsten ist das\, wenn das wunderbare LOFT-Publikum uns dabei zuhört und zusieht.\nHenning Berg – Oktober 2025\n \n\nhttp://www.henning-berg.de/ \nhttps://www.hendriksoll.de/ \nhttps://de.wikipedia.org/wiki/Christian_Ramond \nhttps://de.wikipedia.org/wiki/Nils_Tegen \n\n\nKlingt so: \n\n  \naber auch so: \n\n  \n\n\n\n\n\nHenning Berg – trombone\nChristian Ramond – bass\nHendrik Soll – piano\nNils Tegen – drums\nFurther information about prices\, ticket reservations and our opening times can be found here.\nOn our 2012 CD Seven Lively Conversations\, there are two versions of the same standard that couldn’t be more different.\nWe’ve been jamming\, rehearsing\, and playing like this in this band for many years: we go into each piece without any prior agreement and enjoy not knowing what’s going to happen next.\nAnd the best thing is when the wonderful LOFT audience listens and watches us do it.\nHenning Berg – October 2025
URL:https://www.loftkoeln.de/event/berg-%c2%b7-ramond-%c2%b7-soll-%c2%b7-tegen/
END:VEVENT
END:VCALENDAR