BEGIN:VCALENDAR
VERSION:2.0
PRODID:-//www.loftkoeln.de - ECPv5.14.2.1//NONSGML v1.0//EN
CALSCALE:GREGORIAN
METHOD:PUBLISH
X-WR-CALNAME:www.loftkoeln.de
X-ORIGINAL-URL:https://www.loftkoeln.de
X-WR-CALDESC:Veranstaltungen für www.loftkoeln.de
BEGIN:VTIMEZONE
TZID:Europe/Berlin
BEGIN:DAYLIGHT
TZOFFSETFROM:+0100
TZOFFSETTO:+0200
TZNAME:CEST
DTSTART:20220327T010000
END:DAYLIGHT
BEGIN:STANDARD
TZOFFSETFROM:+0200
TZOFFSETTO:+0100
TZNAME:CET
DTSTART:20221030T010000
END:STANDARD
END:VTIMEZONE
BEGIN:VEVENT
DTSTART;TZID=Europe/Berlin:20220316T203000
DTEND;TZID=Europe/Berlin:20220316T203000
DTSTAMP:20260424T121743
CREATED:20211125T155612Z
LAST-MODIFIED:20220306T102040Z
UID:18711-1647462600-1647462600@www.loftkoeln.de
SUMMARY:Benedikt Hesse Trio plus Special Guest Claudia Ramos Barreto | live recording
DESCRIPTION:Volker Deglmann – Trompete\nJura Wajda – Hammond-Orgel\nBenedikt Hesse – Schlagzeug & Percussion\nplus special guest:\nClaudia Ramos Barreto – Gesang\n \n\n(english: see below) \nInformationen zu Konzerten während der Corona-Pandemie finden Sie hier\, Informationen zu den Preisen\, Karten-Reservierungen und den Öffnungszeiten finden Sie hier.\n© Peter Johann Kierkowski\nAUS DER WIEGE DES JAZZ: NEUE SOUNDS FÜR DEN ALTEN KONTINENT\n \nAlles außer gewöhnlich: Schlagzeug\, Trompete und Hammond-Orgel erzählen von Lagerfeuern in den Sümpfen Louisianas und unendlichen Nächten in karibischen Clubs. \nBenedikt Hesse Trio – das sind Benedikt Hesse an den Drums\, Jura Wajda an Keyboard und Bass Synthesizer sowie Volker Deglmann an der Trompete\, das sind: verruchte Jazz-Sounds\, karibische Rhythmen\, Funk\, Latin\, versierte Impros und drei kongeniale Instrumentalisten\, die den Südstaaten-Spirit immer wieder neu in Klängen konservieren. \nZu diesem unwahrscheinlichen Trio hat sich Benedikt am dafür wahrscheinlichsten Ort inspirieren lassen: in der berüchtigten Maple Leaf Bar\, in New Orleans\, der Wiege des Jazz. Das war 2010. Es folgten drei Studio-Alben\, die aktuelle Aufnahme produziert von keinem Geringeren als „Johnny V“ Vidacovich\, einer echten Drum-Legende vom Mississippi. \nClaudia Ramos Barreto\, geboren 1999\, wuchs in einer Musiker Familie in Havanna / Kuba auf. Während ihres klassischen Musikstudiums als Geigerin entdeckte sie den Jazz-Gesang. Es folgten zahlreiche Auftritte\, unter anderem ein festes Engagement im renommierten Jazz Café. Claudia ist Sängerin im Polyphonischen Chor von Havanna und seit 2020 Teil des jungen weiblichen Vokalquartetts Quadrigale. \nwww.benedikthesse.com \n\nVolker Deglmann – trumpet\nJura Wajda – Hammond organ\nBenedikt Hesse – drums & percussion\nplus special guest: Claudia Ramos Barreto – vocals \nPlease read our infos concerning concerts with an audience during the Corona pandemic here. Information about prices\, ticket reservations and our opening times can be found here. \nFROM THE CRADLE OF JAZZ: NEW SOUNDS FOR THE OLD CONTINENT \nEverything but ordinary: drums\, trumpet and Hammond organ tell of campfires in the swamps of Louisiana and endless nights in Caribbean clubs. \nBenedikt Hesse Trio – that’s Benedikt Hesse on drums\, Jura Wajda on keyboards and bass synthesizer and Volker Deglmann on trumpet\, that’s: wicked jazz sounds\, Caribbean rhythms\, funk\, Latin\, adept improvisations and three congenial instrumentalists who preserve the Southern spirit in sounds over and over again. \nBenedikt was inspired to form this unlikely trio in the most likely place for it: the infamous Maple Leaf Bar\, in New Orleans\, the cradle of jazz. That was in 2010. Three studio albums followed\, the current recording produced by none other than „Johnny V“ Vidacovich\, a true drum legend from the Mississippi. \nClaudia Ramos Barreto\, born in 1999\, grew up in a family of musicians in Havana / Cuba. During her classical music studies as a violinist she discovered jazz singing. Numerous performances followed\, including a permanent engagement at the renowned Jazz Café. Claudia is a singer in the Polyphonic Choir of Havana and since 2020 part of the young female vocal quartet Quadrigale. \nwww.benedikthesse.com
URL:https://www.loftkoeln.de/event/beneditk-hesse/
END:VEVENT
END:VCALENDAR