BEGIN:VCALENDAR
VERSION:2.0
PRODID:-//www.loftkoeln.de - ECPv5.14.2.1//NONSGML v1.0//EN
CALSCALE:GREGORIAN
METHOD:PUBLISH
X-WR-CALNAME:www.loftkoeln.de
X-ORIGINAL-URL:https://www.loftkoeln.de
X-WR-CALDESC:Veranstaltungen für www.loftkoeln.de
BEGIN:VTIMEZONE
TZID:UTC
BEGIN:STANDARD
TZOFFSETFROM:+0000
TZOFFSETTO:+0000
TZNAME:UTC
DTSTART:20120101T000000
END:STANDARD
END:VTIMEZONE
BEGIN:VEVENT
DTSTART;TZID=UTC:20121001T203000
DTEND;TZID=UTC:20121001T203000
DTSTAMP:20260424T173519
CREATED:20171011T062303Z
LAST-MODIFIED:20171011T062303Z
UID:5487-1349123400-1349123400@www.loftkoeln.de
SUMMARY:Benedikt Jahnel Trio - CD-Präsentation: Equilibrium
DESCRIPTION:Benedikt Jahnel – piano\nAntonio Miguel – bass\nOwen Howard – drums \n\n ECM 2251 Release: September 2012 \n„Equilibrium“ ist das ECM-Debüt eines deutsch/amerikanisch/spanischen Trios\, das in den letzten Jahren durch ausgiebige Tourneen zu einer bemerkenswert kompakten und stilistisch unverwechselbaren Gruppe zusammengewachsen ist. Viel Spannung bezieht sie aus den gegensätzliche Spielweisen von Pianist Benedikt Jahnel (dessen Spiel von rhythmischen Phrasen in kleinsten Einheiten geprägt ist) und Drummer Howard (der\, wie Jahnel sagt\, “große Bögen spürt und mit viel Risiko ausspielt\, dabei immer auf die Kraft der Melodie und den Puls setzt”). Dazu findet sich Bassist Antonio Miguel nicht selten in der Rolle des musikalischen Vermittlers zwischen diesen Polen. Der Stil der Band integriert subtil Elemente aus der Klassik wie auch modernem Groove. Jahnel\, vielen auch als Mitglied von Cyminology bekannt\, hat sein musikalisches Profil zudem durch die Arbeit mit dem Metropol Orchestra\, Phil Woods\, Johannes Enders\, Charlie Mariano\, Wolfgang Muthspiel\, Dave Liebman und John Abercrombie geschärft. Produziert von Manfred Eicher in Lugano\, bestechen die sieben Stücke auf “Equilibrium” – ausnahmslos Jahnel-Kompositionen – durch eine ganz eigene\, delikate Balance zwischen auskomponierten und improvisierten Anteilen. \nwww.benejahnel.de
URL:https://www.loftkoeln.de/event/benedikt-jahnel-trio-cd-prasentation-equilibrium/
END:VEVENT
END:VCALENDAR