BEGIN:VCALENDAR
VERSION:2.0
PRODID:-//www.loftkoeln.de - ECPv5.14.2.1//NONSGML v1.0//EN
CALSCALE:GREGORIAN
METHOD:PUBLISH
X-WR-CALNAME:www.loftkoeln.de
X-ORIGINAL-URL:https://www.loftkoeln.de
X-WR-CALDESC:Veranstaltungen für www.loftkoeln.de
BEGIN:VTIMEZONE
TZID:UTC
BEGIN:STANDARD
TZOFFSETFROM:+0000
TZOFFSETTO:+0000
TZNAME:UTC
DTSTART:20180101T000000
END:STANDARD
END:VTIMEZONE
BEGIN:VEVENT
DTSTART;TZID=UTC:20181004T203000
DTEND;TZID=UTC:20181004T203000
DTSTAMP:20260422T194721
CREATED:20180913T034441Z
LAST-MODIFIED:20180913T035431Z
UID:9626-1538685000-1538685000@www.loftkoeln.de
SUMMARY:BENEATH THE UNDERDOG – eine Suite mit Kompositionen von CHARLES MINGUS
DESCRIPTION:Anette von Eichel – Stimme\nRalph Himmler – Trompete\nKristina Brodersen – Saxophon\nJohannes Müller – Saxophon\nAlisa Klein – Posaune\nArnulf Ochs – Gitarre\nChristoph Mudrich – Piano\, Arrangement\nDirk Kunz – Bass\nDirik Schilgen – Schlagzeug \n\nChristoph Mudrich © Jean M. Laffitau\nDer 1979 im Alter von nur 56 Jahren verstorbene Bassist Charles Mingus hinterließ mehr als 300 Kompositionen\, darunter ein Mammut-Werk von mehr als 4000 Takten\, aber auch einige von ihm selbst betextete Songs. Diese sowie einige seiner Instrumentalhits hat der Saarbrücker Pianist und Arrangeur Christoph Mudrich in Form einer Suite bearbeitet und mit der eher seltenen Nonett-Besetzung einen für Mingus‘ kompositorisches Schaffen idealen Klangkörper gefunden. \nDas Konzert im LOFT ist abschließender Teil der Produktion\, die in den Tagen zuvor im dortigen Studio entsteht. Insofern auch nicht das klassische Zwei-Sets-Konzert\, sondern eine etwa einstündige Live-Einspielung der Suite!
URL:https://www.loftkoeln.de/event/beneath-the-underdog-eine-suite-mit-kompositionen-von-charles-mingus/
END:VEVENT
END:VCALENDAR