BEGIN:VCALENDAR
VERSION:2.0
PRODID:-//www.loftkoeln.de - ECPv5.14.2.1//NONSGML v1.0//EN
CALSCALE:GREGORIAN
METHOD:PUBLISH
X-WR-CALNAME:www.loftkoeln.de
X-ORIGINAL-URL:https://www.loftkoeln.de
X-WR-CALDESC:Veranstaltungen für www.loftkoeln.de
BEGIN:VTIMEZONE
TZID:UTC
BEGIN:STANDARD
TZOFFSETFROM:+0000
TZOFFSETTO:+0000
TZNAME:UTC
DTSTART:20160101T000000
END:STANDARD
END:VTIMEZONE
BEGIN:VEVENT
DTSTART;TZID=UTC:20160127T203000
DTEND;TZID=UTC:20160127T203000
DTSTAMP:20260420T122223
CREATED:20170307T083410Z
LAST-MODIFIED:20170307T083410Z
UID:4125-1453926600-1453926600@www.loftkoeln.de
SUMMARY:Battle Pieces
DESCRIPTION:Nate Wooley – trumpet\nIngrid Laubrock – tenor sax\nSylvie Courvoisier – piano\nMatt Moran – vibraphone \n\nZwei der herausragendsten  Frauen der New Yorker Down Town Szene in der All Star Band des Trompeters und Komponisten Nate Wooley. \n\nBattle Pieces is a new project of trumpeter and composer Nate Wooley. This word project is thrown around loosely these days in the jazz world and has come to mean anything from a one time recording to a working band. In Wooley’s hands\, project takes on its full meaning with Battle Pieces. It is not just a new group of musicians to improvise with in a familiar style\, but an opportunity to investigate a new compositional language and what the results might accomplish toward a pan-stylistic improvisational style. \nAfter working with jazz composition in the quintet and varying degrees of electro-acoustic and aleatoric work with his ongoing Seven Storey Mountain and Syllables work\, Battle Pieces is a chance to experiment with the social aspect of making music by writing pieces that put the players in uncomfortable situations where they are challenged and supported by the other musicians in the group. \nOf course\, this means that the musicians must be of a special kind: sensitive\, virtuosic\, open\, and with that special glimmer of creativity that makes them put themselves in precarious musical positions just to see how they can work their way out. For Battle Pieces\, Wooley has collected three such musicians who eagerly undertook the task; transcended the task in fact.
URL:https://www.loftkoeln.de/event/battle-pieces/
END:VEVENT
END:VCALENDAR