BEGIN:VCALENDAR
VERSION:2.0
PRODID:-//www.loftkoeln.de - ECPv5.14.2.1//NONSGML v1.0//EN
CALSCALE:GREGORIAN
METHOD:PUBLISH
X-WR-CALNAME:www.loftkoeln.de
X-ORIGINAL-URL:https://www.loftkoeln.de
X-WR-CALDESC:Veranstaltungen für www.loftkoeln.de
BEGIN:VTIMEZONE
TZID:UTC
BEGIN:STANDARD
TZOFFSETFROM:+0000
TZOFFSETTO:+0000
TZNAME:UTC
DTSTART:20180101T000000
END:STANDARD
END:VTIMEZONE
BEGIN:VEVENT
DTSTART;TZID=UTC:20181105T203000
DTEND;TZID=UTC:20181105T203000
DTSTAMP:20260424T153325
CREATED:20180905T034518Z
LAST-MODIFIED:20181022T143813Z
UID:9535-1541449800-1541449800@www.loftkoeln.de
SUMMARY:Bastian Stein Trio
DESCRIPTION:Bastian Stein – Trompete\nPhil Donkin – Bass\nJames Maddren – Schlagzeug \n\nÜberschwänglicher als der Pirouet-Erstling dieses Musikers wird selten eine CD gefeiert. „Was für ein Ton!“ – mit diesem Ausruf etwas begann die Besprechung im Magazin „Audio“\, die dann den „facettenreichen“ und „weichen“ Ton des Bandleaders lobte und diese Musik als „Filigran-Jazz“ etikettierte. „Eine wunderschöne CD“\, befand die Fachzeitschrift „Jazzpodium“. Und der Radiosender BR-Klassik attestierte Steins Musik „poetische Kraft und viel Ruhe“. Stein selber verfüge\, hieß es da weiter\, über ein „makelloses Spiel“\, das er dazu nutze\, „Klänge und Läufe seiner raffiniert schönen Melodien in alle Richtungen nuancenreich auszuformen\, ohne dabei je den Eindruck zu vermitteln\, ein muskulär-sportlicher Spieler zu sein“. Ein Musiker\, der etwas zu sagen hat – und der das mit außerordentlich feinen und gut gestalteten Tönen tut: So könnte man das zusammenfassen. Und genau das sind die besonderen Merkmale dieses 1983 in Heidelberg geborenen Trompeters\, der seit seinem fünften Lebensjahr in Wien aufwuchs\, dort sowie in Amsterdam und New York ausgebildet wurde und jetzt in Köln lebt. Seine neue CD mit dem Titel „Viktor“ erschien im Februar 2016 ebenfalls bei Pirouet Records. Hören sie rein! \nbastianstein.com \nwww.phildonkin.com \nwww.whirlwindrecordings.com/james-maddren \n 
URL:https://www.loftkoeln.de/event/bastian-stein-trio/
END:VEVENT
END:VCALENDAR