BEGIN:VCALENDAR
VERSION:2.0
PRODID:-//www.loftkoeln.de - ECPv5.14.2.1//NONSGML v1.0//EN
CALSCALE:GREGORIAN
METHOD:PUBLISH
X-WR-CALNAME:www.loftkoeln.de
X-ORIGINAL-URL:https://www.loftkoeln.de
X-WR-CALDESC:Veranstaltungen für www.loftkoeln.de
BEGIN:VTIMEZONE
TZID:Europe/Berlin
BEGIN:DAYLIGHT
TZOFFSETFROM:+0100
TZOFFSETTO:+0200
TZNAME:CEST
DTSTART:20230326T010000
END:DAYLIGHT
BEGIN:STANDARD
TZOFFSETFROM:+0200
TZOFFSETTO:+0100
TZNAME:CET
DTSTART:20231029T010000
END:STANDARD
END:VTIMEZONE
BEGIN:VEVENT
DTSTART;TZID=Europe/Berlin:20230915T203000
DTEND;TZID=Europe/Berlin:20230915T203000
DTSTAMP:20260420T082141
CREATED:20230615T155038Z
LAST-MODIFIED:20230911T153904Z
UID:24343-1694809800-1694809800@www.loftkoeln.de
SUMMARY:Bastian Stein Trio & Sebastian Gille
DESCRIPTION:  \nBastian Stein – Trompete\nPhil Donkin – Bass\nJames Maddren – Schlagzeug \nspecial guest:\nSebastian Gille – Saxophon\n \n\n(english: see below) \nInformationen zu den Preisen\, Karten-Reservierungen und den Öffnungszeiten finden Sie hier.\n\nBastian Stein Trio © Alessandro Matteis ; Sebastian Gille © Gerhard Richter\nDas musikalische Universum der Dreierbeziehung von Bastian Stein\, Phil Donkin und James Maddren entfaltet sich von den ersten Tönen an zu einer atemberaubenden Angelegenheit. Sie erheben das dichte Zusammenspiel zu einer höchsten gemeinsamen Ebene\, bei der jeder Moment von intensiver Interaktion durchdrungen ist. Dabei vereinen sie die großen kompositorischen Formen mit dem spontanen Augenblick. Gemeinsam finden sie stets die richtige Balance zwischen dem ausgereizten Klangraum und dem spielerischen Moment. Ihr Zusammenspiel ist geprägt von einer harmonischen Symbiose\, die ihnen erlaubt\, sich gegenseitig zu inspirieren und zu beflügeln. Dabei entfaltet sich eine fesselnde Dynamik\, die den Zuhörer in ihren Bann zieht und ihn auf eine unvergessliche Reise mitnimmt. \nJames Maddren ist ein international anerkannter Schlagzeuger\, bekannt für seinen lyrischen und expressiv virtuosen Stil. Gemeinsam mit Phil Donkin sind sie nicht nur Rhythmusgruppe sondern Teil eines kraftvollen Dialogs. \nBastian Steins kompositorische Arbeit und sein Spiel zeichnen sich gleichermaßen durch eine starke narrative Kraft aus\, die den idealen Rahmen für virtuose Höhenflüge bietet. Sein warmer und müheloser Klang sowie seine technische Flexibilität und ausdrucksstarke Spielweise verschmelzen perfekt mit dem genialen Spiel von Donkin und Maddren. \nhttps://bastianstein.com/ \nhttp://www.phildonkin.com/ \n\n\n\nGefördert durch den \n \n  \n  \nunterstützt mit Mitteln der  \n \n\nBastian Stein – trumpet\nPhil Donkin – bass\nJames Maddren – drums \nspecial guest:\nSebastian Gille – Saxophon\n \nInformation about prices\, ticket reservations and our opening times can be found here. \nThe musical universe of the three-piece of Bastian Stein\, Phil Donkin and James Maddren unfolds into a breathtaking affair from the first notes. They elevate the dense interplay to a supreme shared level\, where every moment is imbued with intense interaction. In doing so\, they unite the great compositional forms with the spontaneous moment. Together they always find the right balance between the fully developed sound space and the playful moment. Their interplay is characterized by a harmonious symbiosis that allows them to inspire and inspire each other. In the process\, a captivating dynamic unfolds that captivates the listener and takes them on an unforgettable journey. \nJames Maddren is an internationally acclaimed drummer\, known for his lyrical and expressive virtuoso style. Together with Phil Donkin\, they are not just a rhythm section but part of a powerful dialogue. \nBastian Stein’s compositional work and playing are equally characterized by a strong narrative force that provides the ideal framework for virtuosic flights of fancy. His warm and effortless sound as well as his technical flexibility and expressive playing blend perfectly with the brilliant playing of Donkin and Maddren.
URL:https://www.loftkoeln.de/event/bastian-stein-trio-2/
END:VEVENT
END:VCALENDAR