BEGIN:VCALENDAR
VERSION:2.0
PRODID:-//www.loftkoeln.de - ECPv5.14.2.1//NONSGML v1.0//EN
CALSCALE:GREGORIAN
METHOD:PUBLISH
X-WR-CALNAME:www.loftkoeln.de
X-ORIGINAL-URL:https://www.loftkoeln.de
X-WR-CALDESC:Veranstaltungen für www.loftkoeln.de
BEGIN:VTIMEZONE
TZID:UTC
BEGIN:STANDARD
TZOFFSETFROM:+0000
TZOFFSETTO:+0000
TZNAME:UTC
DTSTART:20180101T000000
END:STANDARD
END:VTIMEZONE
BEGIN:VEVENT
DTSTART;TZID=UTC:20180325T203000
DTEND;TZID=UTC:20180325T203000
DTSTAMP:20260423T125649
CREATED:20180129T151314Z
LAST-MODIFIED:20180203T091801Z
UID:7559-1522009800-1522009800@www.loftkoeln.de
SUMMARY:Bachelorkonzert Yannik Tiemann - Bass
DESCRIPTION:Felix Hauptmann – Piano\nYannik Tiemann – Bass\nFelix Ambach – Schlagzeug \n\nDas Trio um den Kölner Bassisten Yannik Tiemann spielt Eigenkompositionen\, die in ihrer stilistischen Bandbreite und kompositorischen Offenheit viel Raum für Improvisation lassen\, sich jedoch immer auf die Geschichte dieser traditionsreichen Besetzung beziehen.
URL:https://www.loftkoeln.de/event/bachelorkonzert-yannik-tiemann-bass/
END:VEVENT
END:VCALENDAR