BEGIN:VCALENDAR
VERSION:2.0
PRODID:-//www.loftkoeln.de - ECPv5.14.2.1//NONSGML v1.0//EN
CALSCALE:GREGORIAN
METHOD:PUBLISH
X-WR-CALNAME:www.loftkoeln.de
X-ORIGINAL-URL:https://www.loftkoeln.de
X-WR-CALDESC:Veranstaltungen für www.loftkoeln.de
BEGIN:VTIMEZONE
TZID:UTC
BEGIN:STANDARD
TZOFFSETFROM:+0000
TZOFFSETTO:+0000
TZNAME:UTC
DTSTART:20200101T000000
END:STANDARD
END:VTIMEZONE
BEGIN:VEVENT
DTSTART;TZID=UTC:20200128T203000
DTEND;TZID=UTC:20200128T203000
DTSTAMP:20260425T161543
CREATED:20191209T074736Z
LAST-MODIFIED:20191210T153031Z
UID:13102-1580243400-1580243400@www.loftkoeln.de
SUMMARY:Bachelorkonzert: Taraneh Mousavi - Gesang // Live-Mitschnitt
DESCRIPTION:TARANEH MOUSAVI PROJECT\nA Lullaby for the Clock \nTaraneh Mousavi – Gesang\nNiklas Roever – Piano\, Keys\nShanice Ruby Bennett – Bass\nFelix Ambach – Schlagzeug \n\nTaraneh Mousavi © Florian Fries\nIm „Taraneh Mousavi Project“ bringt die gleichnamige iranische Singer/Songwriterin eine Mischung ihrer persischen Wurzeln\, aus Jazz\, Pop und Neo-Soul auf die Bühne. Die Eigenkomposition und zugleich der Titel ihrer Reihe „A Lullaby for the Clock” (übersetzt aus dem Persischen) beschreibt die Gefühlswelten der Sängerin\, die mehrere Kulturen und Musikgenres verschmelzen lässt. Die Sammlung beinhaltet persische und englische Werke. Das „Taraneh Mousavi Project“ ist inspiriert durch intensive musikalische sowie persönliche Erlebnisse der Künstlerin. Gemeinsam mit ihrer Band aus Köln nimmt Taraneh Mousavi ihr Bachelorkonzert erstmals zum Anlass\, das „Project“ samt ihrer Werke und Texte vor einem Publikum zu präsentieren. \nhttps://soundcloud.com/taraneh-mousavi
URL:https://www.loftkoeln.de/event/bachelorkonzert-taraneh-mousavi-gesang/
END:VEVENT
END:VCALENDAR