BEGIN:VCALENDAR
VERSION:2.0
PRODID:-//www.loftkoeln.de - ECPv5.14.2.1//NONSGML v1.0//EN
CALSCALE:GREGORIAN
METHOD:PUBLISH
X-WR-CALNAME:www.loftkoeln.de
X-ORIGINAL-URL:https://www.loftkoeln.de
X-WR-CALDESC:Veranstaltungen für www.loftkoeln.de
BEGIN:VTIMEZONE
TZID:UTC
BEGIN:STANDARD
TZOFFSETFROM:+0000
TZOFFSETTO:+0000
TZNAME:UTC
DTSTART:20180101T000000
END:STANDARD
END:VTIMEZONE
BEGIN:VEVENT
DTSTART;TZID=UTC:20180612T203000
DTEND;TZID=UTC:20180612T203000
DTSTAMP:20260422T180350
CREATED:20180430T110002Z
LAST-MODIFIED:20180508T102226Z
UID:8437-1528835400-1528835400@www.loftkoeln.de
SUMMARY:Bachelorkonzert Julia Brüssel - Violine
DESCRIPTION:Julia Brüssel Quartett:\nJulia Brüssel – Violine\, Komposition\nLeo Engels – Gitarre\nLarissa Bode – Bass\nJakob Kammerer – Schlagzeug \n\nDas Quartett um die Kölner Geigerin Julia Brüssel spielt Eigenkompositionen\, welche sich von einer Klangpalette aus filigraner\, bis hin zu energiegeladener Soundästhetik bereichern lassen. Stilistische Offenheit\, frei improvisierte und verzahnt komponierte Passagen\, sphärische und grooveorientierte Texturen zeichnen sich in ihrer Musik ab. Die vier Musiker lernten sich während ihres Studiums an der Musikhochschule in Köln kennen und spielen seit 2018 zusammen.
URL:https://www.loftkoeln.de/event/bachelorkonzert-julia-brussel-violine/
END:VEVENT
END:VCALENDAR