BEGIN:VCALENDAR
VERSION:2.0
PRODID:-//www.loftkoeln.de - ECPv5.14.2.1//NONSGML v1.0//EN
CALSCALE:GREGORIAN
METHOD:PUBLISH
X-WR-CALNAME:www.loftkoeln.de
X-ORIGINAL-URL:https://www.loftkoeln.de
X-WR-CALDESC:Veranstaltungen für www.loftkoeln.de
BEGIN:VTIMEZONE
TZID:Europe/Berlin
BEGIN:DAYLIGHT
TZOFFSETFROM:+0100
TZOFFSETTO:+0200
TZNAME:CEST
DTSTART:20250330T010000
END:DAYLIGHT
BEGIN:STANDARD
TZOFFSETFROM:+0200
TZOFFSETTO:+0100
TZNAME:CET
DTSTART:20251026T010000
END:STANDARD
END:VTIMEZONE
BEGIN:VEVENT
DTSTART;TZID=Europe/Berlin:20250225T200000
DTEND;TZID=Europe/Berlin:20250225T200000
DTSTAMP:20260423T155952
CREATED:20241228T084853Z
LAST-MODIFIED:20250103T095614Z
UID:28475-1740513600-1740513600@www.loftkoeln.de
SUMMARY:Bachelorkonzert: Josefine Kunecke - Vocal | live recording
DESCRIPTION:  \nJosefine Kunecke – Vocals\nMerle Böwering – Vocals\nMarius Kaffine – Vocals\nRandy Reer – Vocals\nFranziska Burchhardt – Cello\nSimon Bremen – Saxophon\nDeniz Yekebaz – Gitarre\nAnna Größbrink – Bass\nNicholas von der Nahmer – Piano\nNiklas Wittig – Schlagzeug\n \n\n(english: see below) \nWeitere Informationen zu den Preisen\, Karten-Reservierungen und den Öffnungszeiten finden Sie hier.\n\nJosefine Kunecke\nDie Sängerin und Songschreiberin Josefine Kunecke gestaltet ihr Bachelorkonzert unter dem Motto: „Mein Weg der Musik“. Sie möchte Stücke\, die sie auf ihrem Weg begleitet haben gemeinsam mit den Menschen\, die dabei eine wichtige Rolle spielen\, auf die Bühne bringen.\nDazu präsentiert sie eigene Musik sowie für sie besondere Standards und Songs in verschiedenen Formationen\, unter anderem mit ihrem Quartett (Josefine Kunecke Quartett)\, als auch im Duo\, oder mit mehreren anderen Sänger*innen (u.a. aus ihrem Vocalensemble „Early Bird“).\nDas vielseitige und individuell gestaltete Programm lädt ein zum Träumen\, Genießen und Eintauchen in neue und bekannte Klänge. \n\n\n\n\nJosefine Kunecke – vocals\nMerle Böwering – vocals\nMarius Kaffine – vocals\nRandy Reer – vocals\nFranziska Burchhardt – cello\nSimon Bremen – saxophone\nDeniz Yekebaz – guitar\nAnna Größbrink – bass\nNicholas von der Nahmer – piano\nNiklas Wittig – drums \nFurther information about prices\, ticket reservations and our opening times can be found here.\nThe singer and songwriter Josefine Kunecke is organizing her bachelor concert under the motto: “My way of music”. She wants to bring pieces that have accompanied her on her journey to the stage together with the people who have played an important role in it.\nTo this end\, she presents her own music as well as standards and songs that are special to her in various formations\, including with her quartet (Josefine Kunecke Quartet)\, as well as in a duo or with several other singers (including from her vocal ensemble “Early Bird”).\nThe varied and individually designed program invites you to dream\, enjoy and immerse yourself in new and familiar sounds.
URL:https://www.loftkoeln.de/event/bachelorkonzert-josefine-kunecke-vocal-live/
END:VEVENT
END:VCALENDAR