BEGIN:VCALENDAR
VERSION:2.0
PRODID:-//www.loftkoeln.de - ECPv5.14.2.1//NONSGML v1.0//EN
CALSCALE:GREGORIAN
METHOD:PUBLISH
X-WR-CALNAME:www.loftkoeln.de
X-ORIGINAL-URL:https://www.loftkoeln.de
X-WR-CALDESC:Veranstaltungen für www.loftkoeln.de
BEGIN:VTIMEZONE
TZID:UTC
BEGIN:STANDARD
TZOFFSETFROM:+0000
TZOFFSETTO:+0000
TZNAME:UTC
DTSTART:20190101T000000
END:STANDARD
END:VTIMEZONE
BEGIN:VEVENT
DTSTART;TZID=UTC:20190321T203000
DTEND;TZID=UTC:20190321T203000
DTSTAMP:20260424T193332
CREATED:20190126T115012Z
LAST-MODIFIED:20190212T085639Z
UID:10807-1553200200-1553200200@www.loftkoeln.de
SUMMARY:Bachelorkonzert Jannis Sicker - Gitarre
DESCRIPTION:Jannis Sicker – Gitarre\, Bass\n\nLukas Wilmsmeyer – Gitarre\, Trompete\nConrad Noll – Bass\nJan Philipp – Schlagzeug\nSimon Below – Schlagzeug\n+special guest \n\n\n\nIm Laufe des Studiums an der Hfmt Köln habe ich mich unterschiedlichen Dingen gewidmet\, die ich an diesem Abend thematisieren möchte. Unter anderem beschäftigt habe ich mich mit der Idee kontrapunktischer Komposition und Improvisation; dem Studium der Klangsprachen von Federico Mompou\, Lennie Tristano\, Béla Bartók\, Bill Frisell; rhythmisch variabler und spontaner Melodiebildung (Lee Konitz\, Jim Hall). \n\n\nBegleitet haben mich musikalisch außerdem z.B. Paul Motian\, Kurt Cobain\, 80s Synthpop\, die Kunst der Fuge und Einflüsse aus der Kölner Jazz- und Improszene.
URL:https://www.loftkoeln.de/event/bachelorkonzert-jannis-sicker-gitarre/
END:VEVENT
END:VCALENDAR