BEGIN:VCALENDAR
VERSION:2.0
PRODID:-//www.loftkoeln.de - ECPv5.14.2.1//NONSGML v1.0//EN
CALSCALE:GREGORIAN
METHOD:PUBLISH
X-WR-CALNAME:www.loftkoeln.de
X-ORIGINAL-URL:https://www.loftkoeln.de
X-WR-CALDESC:Veranstaltungen für www.loftkoeln.de
BEGIN:VTIMEZONE
TZID:UTC
BEGIN:STANDARD
TZOFFSETFROM:+0000
TZOFFSETTO:+0000
TZNAME:UTC
DTSTART:20170101T000000
END:STANDARD
END:VTIMEZONE
BEGIN:VEVENT
DTSTART;TZID=UTC:20170828T203000
DTEND;TZID=UTC:20170828T203000
DTSTAMP:20260420T152750
CREATED:20170428T124609Z
LAST-MODIFIED:20170824T143341Z
UID:4957-1503952200-1503952200@www.loftkoeln.de
SUMMARY:Bachelorkonzert: Fabian Künzer - Schlagzeug
DESCRIPTION:Matthias Schwengler – Trompete\, Flügelhorn\nConstantin Krahmer – Klavier\nLukas Keller – Kontrabass\n\nFabian Künzer – Schlagzeug \n\n© Roman Wollenhaupt\n2012 begann Fabian Künzer bei Prof. Michael Küttner und Prof. Jonas Burgwinkel sein Studium an der HfMT Köln. Im Verlauf des Studiums hatte er die Chance mithilfe eines Erasmus-Stipendiums auch an der Sibelius Academy in Helsinki zu studieren\, und seine Fähigkeiten weiter zu verbessern. \n\n\nWieder zurück in Köln\, lädt er nun drei weitere bekannte Gesichter der Kölner Jazz-Szene ein\, um sein Studium im Rahmen eines Konzertabends abzuschließen.\n\n  \nEintritt: 8\,- / 6\,- €uro
URL:https://www.loftkoeln.de/event/bachelorkonzert-fabian-kunzer-schlagzeug/
END:VEVENT
END:VCALENDAR