BEGIN:VCALENDAR
VERSION:2.0
PRODID:-//www.loftkoeln.de - ECPv5.14.2.1//NONSGML v1.0//EN
CALSCALE:GREGORIAN
METHOD:PUBLISH
X-WR-CALNAME:www.loftkoeln.de
X-ORIGINAL-URL:https://www.loftkoeln.de
X-WR-CALDESC:Veranstaltungen für www.loftkoeln.de
BEGIN:VTIMEZONE
TZID:UTC
BEGIN:STANDARD
TZOFFSETFROM:+0000
TZOFFSETTO:+0000
TZNAME:UTC
DTSTART:20180101T000000
END:STANDARD
END:VTIMEZONE
BEGIN:VEVENT
DTSTART;TZID=UTC:20180322T203000
DTEND;TZID=UTC:20180322T203000
DTSTAMP:20260425T153310
CREATED:20180202T200155Z
LAST-MODIFIED:20180202T200155Z
UID:7567-1521750600-1521750600@www.loftkoeln.de
SUMMARY:Bachelorabschlusskonzert Yannis Anft - Piano
DESCRIPTION:Veronika Morscher – Gesang\n Sabeth Pérez – Gesang\n Rebekka Ziegler – Gesang\n Laura Totenhagen – Gesang \nYannis Anft – Flügel\, Synthesizer\n David Helm – Kontrabass\, E-Bass\n Leif Berger – Schlagzeug \n\nPianist\, Keyboarder und Komponist Yannis Anft beendet sein Bachelor-Studium. Hierzu bringt er einen ausgewählten Teil der Musiker zusammen\, mit denen er in den letzten Jahren mit Begeisterung gespielt\, geforscht und gelernt hat. Es werden neue Kompositionen und Arrangements aus eigener Feder zu hören sein. Als Inspirationen seien unter anderem Thundercat\, John Coltrane\, Allan Holdsworth\, Charles Tournemire\, Rainer Maria Rilke\, Jim Beard\, Herbie Hancock und Ben Monder genannt. \n 
URL:https://www.loftkoeln.de/event/bachelorabschlusskonzert-yannis-anft-piano/
END:VEVENT
END:VCALENDAR