BEGIN:VCALENDAR
VERSION:2.0
PRODID:-//www.loftkoeln.de - ECPv5.14.2.1//NONSGML v1.0//EN
CALSCALE:GREGORIAN
METHOD:PUBLISH
X-WR-CALNAME:www.loftkoeln.de
X-ORIGINAL-URL:https://www.loftkoeln.de
X-WR-CALDESC:Veranstaltungen für www.loftkoeln.de
BEGIN:VTIMEZONE
TZID:UTC
BEGIN:STANDARD
TZOFFSETFROM:+0000
TZOFFSETTO:+0000
TZNAME:UTC
DTSTART:20180101T000000
END:STANDARD
END:VTIMEZONE
BEGIN:VEVENT
DTSTART;TZID=UTC:20180927T203000
DTEND;TZID=UTC:20180927T203000
DTSTAMP:20260424T104353
CREATED:20180728T183736Z
LAST-MODIFIED:20180810T074306Z
UID:8886-1538080200-1538080200@www.loftkoeln.de
SUMMARY:Bachelorabschlusskonzert Simon Below - Piano
DESCRIPTION:Simon Below Quartett:\nFabian Dudek – Sopran-\, Altsaxophon\nSimon Below – Piano\, Komposition\nYannik Tiemann – Bass\nJan Philipp – Schlagzeug \nSimon Below & Nico Amrehn:\nSimon Below – Piano\nNico Amrehn – Bass \n\n \n 
URL:https://www.loftkoeln.de/event/bachelorabschlusskonzert-simon-below-piano/
END:VEVENT
END:VCALENDAR