BEGIN:VCALENDAR
VERSION:2.0
PRODID:-//www.loftkoeln.de - ECPv5.14.2.1//NONSGML v1.0//EN
CALSCALE:GREGORIAN
METHOD:PUBLISH
X-WR-CALNAME:www.loftkoeln.de
X-ORIGINAL-URL:https://www.loftkoeln.de
X-WR-CALDESC:Veranstaltungen für www.loftkoeln.de
BEGIN:VTIMEZONE
TZID:UTC
BEGIN:STANDARD
TZOFFSETFROM:+0000
TZOFFSETTO:+0000
TZNAME:UTC
DTSTART:20180101T000000
END:STANDARD
END:VTIMEZONE
BEGIN:VEVENT
DTSTART;TZID=UTC:20180917T203000
DTEND;TZID=UTC:20180917T203000
DTSTAMP:20260422T111513
CREATED:20180728T083157Z
LAST-MODIFIED:20180810T153432Z
UID:8876-1537216200-1537216200@www.loftkoeln.de
SUMMARY:Bachelorabschlusskonzert Leo Engels - Gitarre "Jackie Ferguson"
DESCRIPTION:Leo Engels – Gitarre\nÖrn Ingi Unnsteinsson – Bass\nJan Philipp – Schlagzeug \n\n \nDas als Kollektiv agierende Trio Jackie Ferguson vereint drei junge in Köln lebende Musiker\, die in ihrer Musik Genregrenzen völlig außeracht lassen. Country-esque Kompositionen werden mit freien Noise-Passagen verknüpft\, die klassische Songidee um kantige Kollektivimprovisationen erweitert. \nAm Ende steht der Versuch einen neuartigen Bandsound zu kreieren. \njackiefergusonmusic.com
URL:https://www.loftkoeln.de/event/bachelorabschlusskonzert-leo-engels-gitarre-jackie-ferguson/
END:VEVENT
END:VCALENDAR