BEGIN:VCALENDAR
VERSION:2.0
PRODID:-//www.loftkoeln.de - ECPv5.14.2.1//NONSGML v1.0//EN
CALSCALE:GREGORIAN
METHOD:PUBLISH
X-WR-CALNAME:www.loftkoeln.de
X-ORIGINAL-URL:https://www.loftkoeln.de
X-WR-CALDESC:Veranstaltungen für www.loftkoeln.de
BEGIN:VTIMEZONE
TZID:UTC
BEGIN:STANDARD
TZOFFSETFROM:+0000
TZOFFSETTO:+0000
TZNAME:UTC
DTSTART:20170101T000000
END:STANDARD
END:VTIMEZONE
BEGIN:VEVENT
DTSTART;TZID=UTC:20170208T203000
DTEND;TZID=UTC:20170208T203000
DTSTAMP:20260424T140449
CREATED:20170107T123900Z
LAST-MODIFIED:20240816T123409Z
UID:3619-1486585800-1486585800@www.loftkoeln.de
SUMMARY:Bachelorabschlusskonzert: Lennart Allkemper - Solomons Kosmos
DESCRIPTION:Lennart Allkemper – Saxophone / Komposition\nKonstantin Döben – Trompete / Flügelhorn\nTim Bücher – Gitarre\nFelix Hauptmann – Piano\nConrad Noll – Bass\n\nNiklas Walter – Schlagzeug \n\n\n\nSOLOMONS KOSMOS\n\n\nLennart Allkemper und Konstantin Döben\, beides ehemalige Mitglieder des Bundesjazzorchesters\, gehen bereits seit ihrem 12. Lebensjahr gemeinsam freundschaftliche und musikalische Wege.\nIm Jahr 2013 beschlossen Sie ihre musikalischen Ideen mit einer eigenen Formation umzusetzen. Mit Felix Hauptmann\, Tim Bücher\, Conrad Noll und Niklas Walter haben die beiden Musiker eine für ihre kreativen Ideen perfekte Formation zusammengestellt.\n\nSo ist mit Solomons Kosmos eine homogene Band entstanden\, die zusammen atmen kann\, die einzelnen Charaktere zur Geltung bringt und trotzdem die verschiedenen Stimmungen der Eigenkompositionen aller Mitglieder nicht verfälscht.\n\nDie Band setzt sich keine Grenzen in Ihrem Schaffen. Komposition und Improvisation werden zum gleichwertigen Bestandteil und erschaffen so den Wechsel zwischen treibenden Grooves\, lyrischen Passagen und freiem Spiel\, in dem Swing-\, Rock und Popeinflüsse genau wie jede andere Richtung zeitgenössischer Musik eine wichtige Rolle in ihrem Stil spielen.\n\nSolomons Kosmos ist Gewinner des ‚Jazz@undesigned 2016‘ Stipendiums der Werner Richard – Dr. Carl Dörren Stiftung und brachte im Oktober letzten Jahres ihr Debüt-Album ‚Down The Vortex‘ heraus.
URL:https://www.loftkoeln.de/event/bachelorabschlusskonzert-lennart-allkemper-solomons-kosmos/
END:VEVENT
END:VCALENDAR