BEGIN:VCALENDAR
VERSION:2.0
PRODID:-//www.loftkoeln.de - ECPv5.14.2.1//NONSGML v1.0//EN
CALSCALE:GREGORIAN
METHOD:PUBLISH
X-WR-CALNAME:www.loftkoeln.de
X-ORIGINAL-URL:https://www.loftkoeln.de
X-WR-CALDESC:Veranstaltungen für www.loftkoeln.de
BEGIN:VTIMEZONE
TZID:UTC
BEGIN:STANDARD
TZOFFSETFROM:+0000
TZOFFSETTO:+0000
TZNAME:UTC
DTSTART:20070101T000000
END:STANDARD
END:VTIMEZONE
BEGIN:VEVENT
DTSTART;TZID=UTC:20070223T203000
DTEND;TZID=UTC:20070223T203000
DTSTAMP:20260422T194400
CREATED:20200418T103626Z
LAST-MODIFIED:20200614T061010Z
UID:14326-1172262600-1172262600@www.loftkoeln.de
SUMMARY:AYEKANTUN
DESCRIPTION:Paz Miranda – voc.\nFlorian Weber – piano\nJuan Camilo Villa – bass\nMichael Küttner – drums \n\nDie Kompositionen der chilenischen Sängerin Paz Miranda sind sowohl durch die Musik Lateinamerikas\, als auch durch den zeitgenössischen Jazz geprägt. Diese unterschiedlichen Einflüsse führt sie auf ihre ganz eigene\, sehr intuitive\, Weise zusammen. Auf diesem Weg begleitet sie der international renomierte Schlagzeuger Michael Küttner\, der Bassist Juan Camilo Villa\, geprägt durch die Musik seines Heimatlandes Kolumbien sowie Florian Weber\, mit dem sie schon seit einiger Zeit ein Duoprojekt verfolgt.
URL:https://www.loftkoeln.de/event/ayekantun/
END:VEVENT
END:VCALENDAR