BEGIN:VCALENDAR
VERSION:2.0
PRODID:-//www.loftkoeln.de - ECPv5.14.2.1//NONSGML v1.0//EN
CALSCALE:GREGORIAN
METHOD:PUBLISH
X-WR-CALNAME:www.loftkoeln.de
X-ORIGINAL-URL:https://www.loftkoeln.de
X-WR-CALDESC:Veranstaltungen für www.loftkoeln.de
BEGIN:VTIMEZONE
TZID:Europe/Berlin
BEGIN:DAYLIGHT
TZOFFSETFROM:+0100
TZOFFSETTO:+0200
TZNAME:CEST
DTSTART:20250330T010000
END:DAYLIGHT
BEGIN:STANDARD
TZOFFSETFROM:+0200
TZOFFSETTO:+0100
TZNAME:CET
DTSTART:20251026T010000
END:STANDARD
END:VTIMEZONE
BEGIN:VEVENT
DTSTART;TZID=Europe/Berlin:20250522T200000
DTEND;TZID=Europe/Berlin:20250522T200000
DTSTAMP:20260424T121734
CREATED:20250401T075213Z
LAST-MODIFIED:20250403T091754Z
UID:29451-1747944000-1747944000@www.loftkoeln.de
SUMMARY:Arching Sky | live recording
DESCRIPTION:Yaroslav Likhachev – Tenorsaxophon\nDonatello D’Attoma – Piano\nGiovanni Iacovella – Schlagzeug \n\n(english: see below) \nWeitere Informationen zu den Preisen\, Karten-Reservierungen und den Öffnungszeiten finden Sie hier.\nArching Sky © Francesco Raspanti\nDas vor kurzem gegründete Trio mit Sitz in Italien und Deutschland hat sich zum Ziel gesetzt\, die zeitgenössische Musik zu präsentieren und dabei die Musiksprache der einzelnen Bandmitglieder zu erforschen und zu einem gemeinsamen und einzigartigen Gruppensound zusammenzubringen.\nDie ungewöhnliche Besetzung ohne Kontrabass bietet ein breites Spektrum an Kompositions- und Improvisationsmöglichkeiten.\nYaroslav Likhachev und Giovanni Iacovella\, Saxophonist und Schlagzeuger des Trios\, beide sind auch als Komponisten tätig\, haben eine erkennbare musikalische Identität und Reife in horizontalen\, atonalen und polymetrischen Kompositionen entwickelt\, die in der pianistischen und kompositorischen Sprache des Pianisten Donatello D’Attoma einen fruchtbaren Boden gefunden haben – letzterer steht den stilistischen Nuancen des Great American Songbook ebenso nahe wie der Ästhetik des Free-Jazz. \nhttps://www.yaroslavlikhachev.com/ \nhttps://www.instagram.com/arching_sky/ \nhttps://www.instagram.com/donatellodattoma/ \nhttps://www.instagram.com/yaroslav_likhachev/ \nhttps://www.instagram.com/giovanni_iacovella/ \n  \n\nMit freundlicher Unterstützung:\n \n\n\nYaroslav Likhachev – tenor saxophon\nDonatello D’Attoma – piano\nGiovanni Iacovella – drums \nFurther information about prices\, ticket reservations and our opening times can be found here. \nThe recently formed Italy/Germany – based trio has set the goal of presenting contemporary music\, researching and bringing together the musical languages of the individual band members to create a unique and recognizable group sound.\nAn unusual lineup without the double bass offers wide exploration and experimentation in both composition and improvisation.\nYaroslav Likhachev and Giovanni Iacovella\, respectively saxophonist and drummer of the trio\, both also composers\, have developed a recognizable musical identity and maturity in more horizontal\, atonal\, and polymetric writing that has found fertile ground in the pianistic and compositional language of pianist Donatello D’Attoma the latter close as much to the stylistic nuances of the Great American Songbook as to the aesthetics of free-jazz.
URL:https://www.loftkoeln.de/event/arching-sky-live-recording/
END:VEVENT
END:VCALENDAR