BEGIN:VCALENDAR
VERSION:2.0
PRODID:-//www.loftkoeln.de - ECPv5.14.2.1//NONSGML v1.0//EN
CALSCALE:GREGORIAN
METHOD:PUBLISH
X-WR-CALNAME:www.loftkoeln.de
X-ORIGINAL-URL:https://www.loftkoeln.de
X-WR-CALDESC:Veranstaltungen für www.loftkoeln.de
BEGIN:VTIMEZONE
TZID:UTC
BEGIN:STANDARD
TZOFFSETFROM:+0000
TZOFFSETTO:+0000
TZNAME:UTC
DTSTART:20170101T000000
END:STANDARD
END:VTIMEZONE
BEGIN:VEVENT
DTSTART;TZID=UTC:20170709T203000
DTEND;TZID=UTC:20170709T203000
DTSTAMP:20260422T143358
CREATED:20170502T054933Z
LAST-MODIFIED:20170502T055338Z
UID:4807-1499632200-1499632200@www.loftkoeln.de
SUMMARY:Antennen im Regen - Lesungskonzert
DESCRIPTION:Burkhard Reinartz – Stimme\nEva Pöpplein – Electronics\nJanko Hanushevsky – E-Bass \n\n© Gerhard Richter\n2015 erschien bei ECM Records „Eine Olive des Nichts – Klangbilder von Burkhard Reinartz“. Der Sprecher\, Regisseur und Radioautor verbindet auf der CD Gedichte internationaler Künstler mit Geräuschen und Musik des ECM-Labels zu einer spannungsvollen Einheit von Wort und Musik. „Antennen im Regen“ sind das Live-Pendant und die Fortführung des ECM-Projekts. Burkhard Reinartz spricht neben eigener Lyrik Gedichte von Adam Zagajewski\, John Burnside und Tomas Tranströmer. Seine Stimme reibt und ergänzt sich mit den Klängen des Duos „Merzouga“. Eva Pöpplein entwickelt filmmusikähnliche Klanglandschaften an Keyboard und Laptop\, Janko Hanushevsky nutzt den Elektro-Bass weit über erwartete Klänge als percussiv/melodischen Klanggenerator. Mehr als ein Konzert – mehr als eine Lesung. \n\nDISKRET \nLästig schabt der frühe Tag am Gefühlsnerv.\nEin junger Fuchs robbt staunend\naus dem Bau ins Morgenlicht. \nFische vibrieren mit ungeduldigen Kiemen.\nErstaunt fällt die Fruchtfliege vom Augenrand. \nMühsam.\nJetzt wird es leichter:\nVon der Gedankenarmbrust schnellt\nder Pfeil ins Zentrum. \nGott schwimmt leise\ndurchs warme Gehirnwasser\,\ndiskret\, mit minimalem Beinschlag.\nEr ist sich seiner Unwahrscheinlichkeit bewusst\nund möchte niemand stören \nGerade jetzt fliegen junge Vögel auf\,\npirouetten sich hoch in die Gewitterwolke.\nSie warten auf den ersten Donnerschlag.\nDer legt den Himmel frei.\nFür eine Sekunde vergisst die Welt zu atmen. \nBurkhard Reinartz: in: Jahrbuch der Lyrik 2017 Schöffling Verlag Ffm \n\nAntennen im Regen – „Nördlich von aller Musik“ \nIm Sommer 2015 ist bei ECM Records die CD „Eine Olive des Nichts“ – Hörbilder des Radioautors\, Regisseurs und Sprechers Burkhard Reinartz erschienen. Gedichte und Texte der Lyriker Tomas Tranströmer\, Adam Zagajewski und Philippe Jaccottet verbinden sich mit Geräuschen\, Soundscapes und Musik des international renommierten ECM-Labels zu einer spannungsvollen Einheit von Wort und Musik.\nAntennen im Regen sind die Fortführung und Weiterentwicklung des ECM-Projekts. Burkhard Reinartz spricht Gedichte unter anderem von Zagajewski\, Tranströmer und John Burnside. Seine Stimme reibt und ergänzt sich mit der Musik des Duos Merzouga. Die Computermusikerin Eva Pöpplein entwickelt Soundscapes am Laptop\, der E-Bassist Janko Hanushevsky bespielt ein breites Spektrum von geräuschhaften\, percussiven Klängen bis zu atmosphärisch-melodischen Bögen.\nIn ihrer Konzert-Performance „Nördlich von aller Musik“ spielt der konkrete Augenblick eine große Rolle. In der Verbindung von Lyrik und Musik entstehen Hörbilder aus dem Moment heraus. Kurze Kompositionen kontrastieren improvisierte Passagen. Die Musik ist von einem starken Formbewusstsein geprägt und zugleich von einer spielerischen Leichtigkeit. Mit einer Selbstverständlichkeit und Frische holt „Antennen im Regen“ Musik und Poesie aus der Ecke des Dramatisch-Künstlichen. \nBurkhard Reinartz lebt und arbeitet als freier Radioautor\, Regisseur und Sprecher in Köln. Markenzeichen seines Schaffens ist die Einheit/Spannung von Wort und Musik sowie die Verbindung von dokumentarischen und fiktiven Elementen. In seine Tätigkeit fließt langjährige Praxis als Musiker\, Fotograf und bildender Künstler ein. \nEva Pöpplein und Janko Hanushevsky arbeiten seit 2002 zusammen. Als Duo Merzouga produzieren sie Hörspiele und Features\, sowie radiophone Klangkunst. Zudem komponieren die beiden Musik für Hörspiel\, Film\, Theater und intermediale Installationen. Charakteristisch für ihre über die Jahre gewachsene Klangsprache ist die Verbindung von Klang und Geräusch\, sowie die künstlerische Arbeit mit Field-Recordings. Die beiden leben in Köln.
URL:https://www.loftkoeln.de/event/antennen-im-regen-lesungskonzert/
END:VEVENT
END:VCALENDAR