BEGIN:VCALENDAR
VERSION:2.0
PRODID:-//www.loftkoeln.de - ECPv5.14.2.1//NONSGML v1.0//EN
CALSCALE:GREGORIAN
METHOD:PUBLISH
X-WR-CALNAME:www.loftkoeln.de
X-ORIGINAL-URL:https://www.loftkoeln.de
X-WR-CALDESC:Veranstaltungen für www.loftkoeln.de
BEGIN:VTIMEZONE
TZID:UTC
BEGIN:STANDARD
TZOFFSETFROM:+0000
TZOFFSETTO:+0000
TZNAME:UTC
DTSTART:20160101T000000
END:STANDARD
END:VTIMEZONE
BEGIN:VEVENT
DTSTART;TZID=UTC:20160214T203000
DTEND;TZID=UTC:20160214T203000
DTSTAMP:20260425T173548
CREATED:20160214T193000Z
LAST-MODIFIED:20170301T081020Z
UID:5-1455481800-1455481800@www.loftkoeln.de
SUMMARY:Anne Hartkamp - Thomas Rückert: Album-Präsentation: "Dear Bill"
DESCRIPTION:Anne Hartkamp – vocals\nThomas Rückert – piano\nspecial guest: Martin Gjakonovski – bass \n\n© www.apwisch.de\nDer Pianist Bill Evans steht wie kaum ein anderer Jazzmusiker für Leichtigkeit und Tiefe\, Vielschichtigkeit und Introspektion. \nSeiner Musik widmen die Kölner Sängerin Anne Hartkamp und der Pianist Thomas Rückert\, unterstützt durch special guest Martin Gjakonovski am Bass\, ihr neues Album „Dear Bill“. Im improvisatorischen Dialog und Trialog dieser sensiblen Musikerpersönlichkeiten entfalten die Kompositionen aus Evans‘ Repertoire unerwartete Facetten\, zeigen sich neue Tiefen und vielfältige Schattierungen\, entsteht klares Leuchten\, inniger Zauber und große klangliche Poesie. \n„…Stille\, Tiefe und Emotionalität mit Seele…“ (JazzThing) \n„…die Unendlichkeit des Songs…“ (JazzPodium) \nwww.annehartkamp.de \nwww.thomasrueckert.com \nAnne und Thomas werden leider nicht wie ursprünglich angekündigt durch John Goldsby unterstützt\, da diesem kurzfristig die Grammy Verleihung in Los Angeles dazwischengekommen ist („No\, I’m not nominated for a Grammy. Marshall Gilkes is nominated for two Grammys for his album Köln [Alternate Side]\, which he recorded with the WDR Big Band—so I play bass on the album. I’m going to L.A.\, along with Mattis Cederberg\, to represent the WDR Big Band\, support Marshall and watch the awards ceremony“ JG).\nEr wird jedoch mehr als würdig durch Martin Gjakonovski vertreten.
URL:https://www.loftkoeln.de/event/anne-hartkamp-thomas-ruckert-album-prasentation-dear-bill/
END:VEVENT
END:VCALENDAR