BEGIN:VCALENDAR
VERSION:2.0
PRODID:-//www.loftkoeln.de - ECPv5.14.2.1//NONSGML v1.0//EN
CALSCALE:GREGORIAN
METHOD:PUBLISH
X-WR-CALNAME:www.loftkoeln.de
X-ORIGINAL-URL:https://www.loftkoeln.de
X-WR-CALDESC:Veranstaltungen für www.loftkoeln.de
BEGIN:VTIMEZONE
TZID:Europe/Berlin
BEGIN:DAYLIGHT
TZOFFSETFROM:+0100
TZOFFSETTO:+0200
TZNAME:CEST
DTSTART:20230326T010000
END:DAYLIGHT
BEGIN:STANDARD
TZOFFSETFROM:+0200
TZOFFSETTO:+0100
TZNAME:CET
DTSTART:20231029T010000
END:STANDARD
END:VTIMEZONE
BEGIN:VEVENT
DTSTART;TZID=Europe/Berlin:20230313T203000
DTEND;TZID=Europe/Berlin:20230313T203000
DTSTAMP:20260422T180155
CREATED:20230202T165025Z
LAST-MODIFIED:20230311T192600Z
UID:22916-1678739400-1678739400@www.loftkoeln.de
SUMMARY:Andreas Pientka Tentet
DESCRIPTION:Cay Schmitz – Trompete\, Flügelhorn\nChristian Mehler – Trompete\, Flügelhorn\nPhilipp Schittek – Tenorposaune\nTobias Herzog – Bassposaune\, Tuba\nJulius van Rhee – Altsaxophon\, Klarinette\, Flöte\nMarc Doffey – Tenorsaxophon\, Sopransaxophon\, Klarinette\, Flöte\nOle Sinell – Baritonsaxophon\, Bassklarinette\nAndreas Pientka – Bass & Komposition\nRobbi Nakayama – Piano\nAlex Parzhuber – Schlagzeug\nDavid Heiss – Dirigat \n\n(english: see below) \nInformationen zu den Preisen\, Karten-Reservierungen und den Öffnungszeiten finden Sie hier.\n\n\n\n\n© Leopold Achilles\n„…mit Tiefe Nacht ist jetzt ein vielschichtiges\, vor allem aber poetisches und wuchtiges Debütalbum von Andreas Pientka und seinem Tentet erschienen…“ WDR\n\nEine Pandemie von weltweitem Ausmaß hat uns im letzten Jahr gezeigt\, wie das öffentliche Leben innerhalb von wenigen Wochen zum Erliegen kommen kann. Ist das die nahende Apokalypse? Wohl kaum. Und doch – es ist eine besondere Zeit.\nFür den deutschen Kontrabassisten und Komponisten Andreas Pientka ein idealer Zeitpunkt für Gedankenexperimente. Pientka ist dabei ganz Denker\, Grübler und Reisender\, dessen Forschungsfeld gleichermaßen explosive Experimentierfläche wie philosophische Abhandlung ist. Mit seinem Debütalbum „Tiefe Nacht“ bewegt sich der gebürtige Dattelner mit seinem hochklassig besetzten Tentett auf Goethes Spuren und nimmt dessen literarische Figur des Faust zum Anlass\, um Anhaltspunkte auf die Frage zu finden\, was denn nun die Welt im innersten zusammenhält. Schwere Kost für ein Debüt möchte man meinen. \nhttps://andreaspientka.com/ \nPientka meistert diese Herausforderung mit Ehrfurcht und einer gehörigen Portion Selbstbewusstsein. Schwebend gleiten seine Kompositionen zwischen Jazz und Klassik\, streifen Grenzbereiche und finden ungeahnte Gemeinsamkeiten. Bei einem Tentett\, also einem echten „Large Ensemble“\, das sich im unbetonnten Fahrwasser zwischen Klassik und Jazz bewegt\, fallen unweigerlich die Großtaten von Arrangeur Gil Evans ein. Die Kompositionen von Pientka greifen diesen Geist auf\, klingen jedoch frisch\, lebendig und trotz allem Traditionsbewusstsein nah am Zeitgeist. Flotte Bebop-Passagen\, hymnische Filmmusik-Anleihen\, fordernder Modern-Jazz\, groovender Pop und treibender akustischer Techno vereinen sich in den Stücken des jungen Musikers in Ekstase und Tiefgang. \nBei aller kompositorischer Dichte und Detailversessenheit bleiben die Kompositionen von Pientka vor allem eins – menschlich. Eben so menschlich\, wie jene Fragen\, die schon Goethe seinen Faust stellen ließ und die bis heute unbeantwortet bleiben. Wenn unbeantwortete Fragen so klingen wie die kompositorische Dichte\, musikalische Opulenz und die improvisatorischen Höhenflüge von Andreas Pientka und seinem Tentett\, dann sollten wir ab sofort anfangen mehr davon zu stellen.\nText: Matthias Kaiser \n\n\nCay Schmitz – trumpet\, flugelhorn\nChristian Mehler – trumpet\, flugelhorn\nPhilipp Schittek – tenor trombone\nTobias Herzog – bass trombone\, tuba\nJulius van Rhee – alto saxophone\, clarinet\, flute\nMarc Doffey – tenor saxophone\, soprano saxophone\, clarinet\, flute\nOle Sinell – baritone saxophone\, bass clarinet\nAndreas Pientka – bass & composition\nRobbi Nakayama – piano\nAlex Parzhuber – drums\nDavid Heiss – conductor \nInformation about prices\, ticket reservations and our opening times can be found here. \nLast year\, a pandemic of global proportions showed us how public life can come to a standstill within a few weeks. Is this the approaching apocalypse? Hardly. And yet – it is a special time.\nFor German double bassist and composer Andreas Pientka\, it’s an ideal time for thought experiments. With his debut album „Tiefe Nacht“ (Deep Night)\, the Datteln native and his top-class tentet follow in Goethe’s footsteps and take his literary figure Faust as an opportunity to find clues to the question of what holds the world together at its core. Heavy fare for a debut\, one might think. \nhttps://andreaspientka.com/ \nPientka masters this challenge with reverence and a good portion of self-confidence. His compositions glide between jazz and classical music\, touching on border areas and finding unexpected common ground. With a tentet\, i.e. a real „large ensemble“\, moving in the unstressed waters between classical and jazz\, the great deeds of arranger Gil Evans inevitably come to mind. Pientka’s compositions take up this spirit\, but sound fresh\, lively and close to the spirit of the times\, despite all awareness of tradition. Snappy bebop passages\, anthemic film music borrowings\, demanding modern jazz\, grooving pop and driving acoustic techno unite in ecstasy and depth in the pieces of the young musician. \nFor all their compositional density and obsession with detail\, Pientka’s compositions remain one thing above all – human. Just as human as those questions that Goethe had his Faust ask and that remain unanswered to this day. If unanswered questions sound like the compositional density\, musical opulence and improvisational flights of fancy of Andreas Pientka and his tentet\, then we should start asking more of them from now on.\nText: Matthias Kaiser
URL:https://www.loftkoeln.de/event/andreas-pientka-tentet/
END:VEVENT
END:VCALENDAR