BEGIN:VCALENDAR
VERSION:2.0
PRODID:-//www.loftkoeln.de - ECPv5.14.2.1//NONSGML v1.0//EN
CALSCALE:GREGORIAN
METHOD:PUBLISH
X-WR-CALNAME:www.loftkoeln.de
X-ORIGINAL-URL:https://www.loftkoeln.de
X-WR-CALDESC:Veranstaltungen für www.loftkoeln.de
BEGIN:VTIMEZONE
TZID:Europe/Berlin
BEGIN:DAYLIGHT
TZOFFSETFROM:+0100
TZOFFSETTO:+0200
TZNAME:CEST
DTSTART:20230326T010000
END:DAYLIGHT
BEGIN:STANDARD
TZOFFSETFROM:+0200
TZOFFSETTO:+0100
TZNAME:CET
DTSTART:20231029T010000
END:STANDARD
END:VTIMEZONE
BEGIN:VEVENT
DTSTART;TZID=Europe/Berlin:20230513T203000
DTEND;TZID=Europe/Berlin:20230513T203000
DTSTAMP:20260422T142803
CREATED:20230403T070052Z
LAST-MODIFIED:20230411T072409Z
UID:23520-1684009800-1684009800@www.loftkoeln.de
SUMMARY:Anamorphosis
DESCRIPTION:Antonia Hausmann – Posaune\nFranziska Ludwig – Cello\nSebastian Wehle – Tenorsaxophon\, Klarinette\nJohannes Moritz – Klarinette\, Bassklarinette\, Komposition\nVolker Heuken – Vibraphon\, Marimbaphon\, Glockenspiel\nRobert Lucaciu – Bass\nPhilipp Scholz – Schlagzeug\, Perkussion \n\n(english: see below) \nInformationen zu den Preisen\, Karten-Reservierungen und den Öffnungszeiten finden Sie hier.\n\n\n\n© Lukas Diller\nJohannes Moritz formierte im Herbst 2021 um sein seit zehn Jahren bestehendes\, Quartett ein neues Ensemble\, erweitert um Antonia Hausmann an der Posaune\, Franziska Ludwig am Cello und Volker Heuken am Vibraphon & Marimbaphon. \nhttps://anamorphosis.de/ \n„Anamorphose ist die Kunst der verzerrten Darstellung (und Wahrnehmung) durch einen Spiegel oder Veränderung der Perspektive. Angeregt und beeinflusst von Installationskünstlern wie Shiego Fukuda & Jean Max Albert habe ich Musik komponiert\, die harmonische Ebenen und rhythmische Motive verschieben\, oft sogar verschleiern. Die Melodie ist für mich ein wiederkehrendes\, aber in ihrer Form ständig verfremdetes\, Element. Der Klang verschiedener\, farbenreicher Holzblasinstrumente (Sebastian Wehle und Johannes Moritz) trifft auf den dunklen\, warmen Sound der Posaunistin Antonia Hausmanns\, die seit einigen Jahren zu den gefragtesten Solistinnen auf Ihrem Instrument (Nominierung Deutscher Jazzpreis 2023) zählt. Die klassisch ausgebildete Cellistin Franziska Ludwig spannt den Bogen zu meinem klassischen Kompositionsvorbildern. Volker Heuken bildet mit Robert Lucaciu und Philipp Scholz eine außergewöhnliche Rhythmusgruppe\, die meine Kompositionen mit Hingabe\, Präzession und Intensität in den metrischen Bahnen lenkt.\nIch betrachte die Aufnahme als Konzeptalbum\, in dem außermusikalische Themen eine starke Rolle spielen. In der Psychologie kann das Verändern der eigene Perspektive die eigene Weiterentwicklung und den inneren Reifeprozess anstoßen. Das Spiegeln und Reflektieren von Emotionen oder Situationen sind das Fundament von menschlichen Beziehungen (Kind – Eltern). Andererseits: Verzerrte Darstellungen wissenschaftlich fundierterer Fakten\, wie z.B. der menschengemachte Klimawandel oder das durch den Menschen verursachte Artensterben\, sind unter dem Begriff Fakenews ein bitterer Standard der freien Meinungsäußerung geworden.“\nJohannes Moritz \nDas Album Bird’s Eye View erscheint im Sommer 2023 beim Berliner Label X-Jazz Music. \n„Mit dem Bandnamen Anamorphosis verweist Johannes Moritz auf die seinen Kompositionen zugrunde liegenden Spiegelungen und Perspektivwechsel\, wie sie besonders in der Malerei zum Stilmittel geworden sind. Vollkommen ungeschwätzig ist diese dichte und sinnliche Musik zwischen Disziplin und Spontaneität angelegt. Sie überträgt ein Prinzip optischer Blickwandlungen in klug konstruierte\, weit ausholende Sounds und Klangfortschreibungen\, die mit immer neuen Wendungen verblüffen und faszinieren. Hier meldet sich mit Nachdruck\, Spielfreude und großem Gestaltungswillen eine neue Musikergeneration mit überzeugenden Statements.“\nUllrich Steinmetzger – Leipziger Volkszeitung 22.05.2022 \n\n\n\nAntonia Hausmann – trombone\nFranziska Ludwig – violoncello\nSebastian Wehle – tenor saxophone\, clarinet\nJohannes Moritz – clarinet\, bass clarinet\, composition\nVolker Heuken – vibraphone\, marimba\, glockenspiel\nRobert Lucaciu – bass\nPhilipp Scholz – drums\, percussion \nInformation about prices\, ticket reservations and our opening times can be found here. \n\n\nIn autumn 2021\, Johannes Moritz formed a new ensemble by expanding his quartet\, which had existed for ten years\, with Antonia Hausmann on trombone\, Franziska Ludwig on cello and Volker Heuken on vibraphone & marimba. \n„Anamorphosis is the art of distorted representation (and perception) through a mirror or change of perspective. Inspired and influenced by installation artists such as Shiego Fukuda & Jean Max Albert\, I have composed music that shifts\, often even disguises\, harmonic planes and rhythmic motifs. Melody is a recurring element for me\, but one that is constantly alienated in its form. The sound of various\, colourful woodwind instruments (Sebastian Wehle and Johannes Moritz) meets the dark\, warm sound of trombonist Antonia Hausmanns\, who has been one of the most sought-after soloists on her instrument for several years (nominated for the German Jazz Prize 2023). The classically trained cellist Franziska Ludwig draws the bow to my classical compositional models. Volker Heuken forms an extraordinary rhythm section with Robert Lucaciu and Philipp Scholz\, who steer my compositions along metrical paths with dedication\, precision and intensity. \nI consider the recording a concept album in which extra-musical themes play a strong role. In psychology\, changing one’s perspective can trigger one’s own further development and inner maturing process. Mirroring and reflecting emotions or situations are the foundation of human relationships (child – parents). On the other hand: distorted representations of more scientifically sound facts\, such as man-made climate change or the extinction of species caused by humans\, have become a bitter standard of free expression under the term „fakenews“.“\nJohannes Moritz \nThe album Bird’s Eye View will be released in summer 2023 on the Berlin label X-Jazz Music. \n„With the band name Anamorphosis\, Johannes Moritz refers to the reflections and changes of perspective underlying his compositions\, as they have become a stylistic device especially in painting. This dense and sensual music is set between discipline and spontaneity. It transfers a principle of optical changes of view into cleverly constructed\, far-reaching sounds and sound continuations that amaze and fascinate with ever new twists and turns. Here a new generation of musicians comes forward with convincing statements\, with emphasis\, joy of playing and great creative will.“\nUllrich Steinmetzger – Leipziger Volkszeitung 22.05.2022
URL:https://www.loftkoeln.de/event/anamorphosis/
END:VEVENT
END:VCALENDAR