BEGIN:VCALENDAR
VERSION:2.0
PRODID:-//www.loftkoeln.de - ECPv5.14.2.1//NONSGML v1.0//EN
CALSCALE:GREGORIAN
METHOD:PUBLISH
X-WR-CALNAME:www.loftkoeln.de
X-ORIGINAL-URL:https://www.loftkoeln.de
X-WR-CALDESC:Veranstaltungen für www.loftkoeln.de
BEGIN:VTIMEZONE
TZID:UTC
BEGIN:STANDARD
TZOFFSETFROM:+0000
TZOFFSETTO:+0000
TZNAME:UTC
DTSTART:20040101T000000
END:STANDARD
END:VTIMEZONE
BEGIN:VEVENT
DTSTART;TZID=UTC:20040121T200000
DTEND;TZID=UTC:20040121T200000
DTSTAMP:20260421T142632
CREATED:20180821T145847Z
LAST-MODIFIED:20180821T145847Z
UID:9201-1074715200-1074715200@www.loftkoeln.de
SUMMARY:"ALL THAT JAZZ" Vol 2 - Tag 1
DESCRIPTION:Semesterabschlusskonzert der Jazzabteilung der Kölner Musikhochschule \n\n„Zum zweiten Mal präsentiert die Jazzabteilung der Musikhochschule Köln im LOFT zum Semesterabschluss zwei Konzert-Abende mit den Früchten ihrer Arbeit: Vielfältige Ensembles\, Kleinbesetzungen und ein Chor\, Dozenten- und Studentenprojekte\, Standards\, Zeitgenössisches\, Eigenkompositionen…“ \nStudenten der Musikhochschule freier Eintritt \nUKB 5.- €uro
URL:https://www.loftkoeln.de/event/all-that-jazz-vol-2-tag-1/
END:VEVENT
END:VCALENDAR