BEGIN:VCALENDAR
VERSION:2.0
PRODID:-//www.loftkoeln.de - ECPv5.14.2.1//NONSGML v1.0//EN
CALSCALE:GREGORIAN
METHOD:PUBLISH
X-WR-CALNAME:www.loftkoeln.de
X-ORIGINAL-URL:https://www.loftkoeln.de
X-WR-CALDESC:Veranstaltungen für www.loftkoeln.de
BEGIN:VTIMEZONE
TZID:Europe/Berlin
BEGIN:DAYLIGHT
TZOFFSETFROM:+0100
TZOFFSETTO:+0200
TZNAME:CEST
DTSTART:20260329T010000
END:DAYLIGHT
BEGIN:STANDARD
TZOFFSETFROM:+0200
TZOFFSETTO:+0100
TZNAME:CET
DTSTART:20261025T010000
END:STANDARD
END:VTIMEZONE
BEGIN:VEVENT
DTSTART;TZID=Europe/Berlin:20260424T200000
DTEND;TZID=Europe/Berlin:20260424T200000
DTSTAMP:20260421T095406
CREATED:20260303T165213Z
LAST-MODIFIED:20260306T093453Z
UID:32329-1777060800-1777060800@www.loftkoeln.de
SUMMARY:AKW: Aardestrup Kimmig Wissel
DESCRIPTION:Jonathan Aardestrup – Bass\nHarald Kimmig – Violine\nGeorg Wissel – erweitertes Altsaxophon\, Klarinette \n\n(english: see below) \nWeitere Informationen zu den Preisen\, Karten-Reservierungen und den Öffnungszeiten finden Sie hier.\n\n\n\nJonathan Aardestrup\, Harald Kimmig\, Georg Wissel\nDas neue Ensemble widmet sich einer zeitgenössischen improvisierten Kammermusik und vereint drei markante Stimmen der europäischen Improvisationsszene.\nJonathan Aardestrup\, Bassist aus der agilen Szene von Kopenhagen\, trifft mit Harald Kimmig\, Violinist aus Freiburg\, sowie Georg Wissel aus Köln an Saxophon und Klarinette auf zwei erfahrene Vertreter des Genres.\nGemeinsam entwickeln sie ein delikates Zusammenspiel\, das von feinen Klangfarben\, offener Form und aufmerksamem musikalischem Dialog geprägt ist. Als gewandte Improvisatoren gestalten sie Musik im Moment –  präzise\, risikofreudig und stets dem gemeinsamen Klang verpflichtet. \nKlingt so ähnlich:\nhttps://soundcloud.com/georg-wissel/sets/akw_aardestrup-kimmmig-wissel \n\n\nDer in Kopenhagen lebende Musiker\, Komponist\, Produzent und Organisator Jonathan Aardestrup hat sein künstlerisches Schaffen zwischen Unkonventionellem und Eingängigem ausbalanciert. Als  reigeistiger Bassist ist er stets bestrebt\, neue Wege zu beschreiten und sinnlose Wiederholungen zu vermeiden\, was zu einer kontinuierlichen Auseinandersetzung mit komponierter Originalmusik\, Improvisation und der Wechselbeziehung zwischen beiden führt. \nhttps://database.shareimpro.eu/en/person/jonathan-aardestrup \n\nHarald Kimmig ist improvisierender Musiker und Performer. In seinen Arbeiten erforscht er mit den Mitteln der Improvisation Klänge\, künstlerische Formen und deren interdisziplinäre Wechselwirkungen mit anderen Künsten. Auf virtuose Art kombiniert er auf dem Instrument erzeugte Geräusche mit konventionellem Violinspiel und entwickelte über die Jahre einen unverwechselbaren Sound und Stil. \nhttps://www.haraldkimmig.de/ \nGeorg Wissel -sculptor of compressed air- begann Ende der 1990er Jahre\, nicht nur neue Spieltechniken zu erforschen\, sondern auch die Klangpalette seiner Instrumente durch Präparationen zu erweitern\, die seitdem ein fester Bestandteil seines Spiels geworden sind. Er ist ein versierter und international tätiger Klangforscher\, der mit seiner Spielweise zwischen Klang und Geräusch eigene musikalische Texturen schafft und so zum Gruppenverständnis der erweiterten Improvisation beiträgt. \nhttps://georgwissel.wordpress.com/ \n\n\n\n\nJonathan Aardestrup – bass\nHarald Kimmig – violine\nGeorg Wissel – augmented alto saxophone\, clarinet \nFurther information about prices\, ticket reservations and our opening times can be found here.\n\n\n\n\n\nThe new ensemble is dedicated to contemporary improvised chamber music and brings together three distinctive voices from the European improvisation scene.\nJonathan Aardestrup\, bassist from the agile Copenhagen scene\, meets Harald Kimmig\, violinist from Freiburg\, and Georg Wissel from Cologne on saxophone and clarinet\, two experienced representatives of the genre.\nTogether they develop a delicate interplay characterized by subtle timbres\, open form\, and attentive musical dialogue. As skilled improvisers\, they create music in the moment – precise\, risk-taking\, and always committed to the collective sound. \nKlingt so ähnlich:\nhttps://soundcloud.com/georg-wissel/sets/akw_aardestrup-kimmmig-wissel \n\nDer in Kopenhagen lebende Musiker\, Komponist\, Produzent und Organisator Jonathan Aardestrup hat sein künstlerisches Schaffen zwischen Unkonventionellem und Eingängigem ausbalanciert. Als  reigeistiger Bassist ist er stets bestrebt\, neue Wege zu beschreiten und sinnlose Wiederholungen zu vermeiden\, was zu einer kontinuierlichen Auseinandersetzung mit komponierter Originalmusik\, Improvisation und der Wechselbeziehung zwischen beiden führt. \nhttps://database.shareimpro.eu/en/person/jonathan-aardestrup \n\nHarald Kimmig is an improvisational musician and performer. In his work\, he uses improvisation to explore sounds\, artistic forms\, and their interdisciplinary interactions with other arts. He masterfully combines sounds produced on his instrument with conventional violin playing and has developed a distinctive sound and style over the years. \nhttps://www.haraldkimmig.de/ \nGeorg Wissel – sculptor of compressed air – began in the late 1990s not only to explore new playing techniques\, but also to expand the sound palette of his instruments through preparations that have since become an integral part of his playing. He is an accomplished and internationally active sound researcher who creates his own musical textures with his playing style between sound and noise\, thus contributing to the group’s understanding of extended improvisation. \nhttps://georgwissel.wordpress.com/
URL:https://www.loftkoeln.de/event/akw-aardestrup-kimmig-wissel/
END:VEVENT
END:VCALENDAR