BEGIN:VCALENDAR
VERSION:2.0
PRODID:-//www.loftkoeln.de - ECPv5.14.2.1//NONSGML v1.0//EN
CALSCALE:GREGORIAN
METHOD:PUBLISH
X-WR-CALNAME:www.loftkoeln.de
X-ORIGINAL-URL:https://www.loftkoeln.de
X-WR-CALDESC:Veranstaltungen für www.loftkoeln.de
BEGIN:VTIMEZONE
TZID:UTC
BEGIN:STANDARD
TZOFFSETFROM:+0000
TZOFFSETTO:+0000
TZNAME:UTC
DTSTART:20030101T000000
END:STANDARD
END:VTIMEZONE
BEGIN:VEVENT
DTSTART;TZID=UTC:20030520T203000
DTEND;TZID=UTC:20030520T203000
DTSTAMP:20260422T212231
CREATED:20210920T051209Z
LAST-MODIFIED:20210920T051209Z
UID:18206-1053462600-1053462600@www.loftkoeln.de
SUMMARY:AKI TAKASE - PIANO SOLO
DESCRIPTION:Aki Takase – Piano \n\npräsentiert von Jazz am Rhein e.V. „Piano“ und 2ndFLOOR e.V. \nDie aus Osaka in Japan stammende Aki Takase\, die seit Ende der 80er Jahre in Berlin lebt und im Rheinland imemr wieder zu Gast ist\, ist eine der außergewöhnlichsten Pianistinnen des aktuellen Jazz. Sie verbindet in virtuoser wie besonders ausdrucksvoller Weise die Traditionen des Jazz wie der Neuen Musik vor dem kulturellen Hintergrund ihrer japanischer Heimat. Viele Soloprojekte\, auch Duos mit Maria Joao\, David Murray\, Gerd Dudek\, Conny Bauer und in letzter Zeit Rudi Mahall\, ihre Mitarbeit in Alexander von Schlippenbachs Berlin Contemporary Jazz Orchestra wie auch aktuelle W.C.Handy- und Fats Waller- Projekte mit Rudi Mahall\, Nils Wogram\, Fred Frith und Paul Lovens belegen ihre Ausnahmestellung in der Musik der Gegenwart.
URL:https://www.loftkoeln.de/event/aki-takase-piano-solo/
END:VEVENT
END:VCALENDAR