BEGIN:VCALENDAR
VERSION:2.0
PRODID:-//www.loftkoeln.de - ECPv5.14.2.1//NONSGML v1.0//EN
CALSCALE:GREGORIAN
METHOD:PUBLISH
X-WR-CALNAME:www.loftkoeln.de
X-ORIGINAL-URL:https://www.loftkoeln.de
X-WR-CALDESC:Veranstaltungen für www.loftkoeln.de
BEGIN:VTIMEZONE
TZID:UTC
BEGIN:STANDARD
TZOFFSETFROM:+0000
TZOFFSETTO:+0000
TZNAME:UTC
DTSTART:20050101T000000
END:STANDARD
END:VTIMEZONE
BEGIN:VEVENT
DTSTART;TZID=UTC:20050505T203000
DTEND;TZID=UTC:20050505T203000
DTSTAMP:20260423T061709
CREATED:20210920T051050Z
LAST-MODIFIED:20210920T051050Z
UID:18204-1115325000-1115325000@www.loftkoeln.de
SUMMARY:Aki and the Good Boys
DESCRIPTION:Aki Takase – piano\nRudi Mahall – bcl.\nWalter Gauchel – sopr./ten- sax\, flute\nJohannes Fink – bass\nHeinrich Köbberling – dr \n\npräsentiert von Jazz am Rhein e.V. „Piano“ und 2ndFLOOR e.V. \nAki Takases neue Berliner Band\, in der sich nach langer und intensiver Vorarbeit endlich die Musiker zusammengefunden haben\, mit denen sie ihre Vorstellung eines Neuen\, swingenden Jazz realisieren kann. „Aki & The Good Boys“ spielen vorwiegend Kompositionen von Aki Takase und Rudi Mahall.\nNeu und aufregend – um nicht zu sagen explosiv!\nNach den letzten\, aufsehnerregenden Veröffentlichungen „St. Louis Blues“ ( SWR Jazzpreis 2003 )und „Aki Takase plays Fats Waller „(2004 Jahrespreis der Deutschen Schallplattenkritik)) nunmehr soeben- und gleichermaßen in Quintett Besetzung- erschienen „Aki and the Good Boys“/ „Procreation“(Enja).\nDas ist Akis neue Band\, in der sich nach langer und intensiver Vorarbeit endlich die Musiker zusammen gefunden haben\, mit denen sie ihre Vorstellung eines Neuen und Swingenden Jazz realisieren kann. „Aki and the Good Boys“ spielen vorwiegend Kompositionen von Aki Takase und Rudi Mahall mit entsprechenden\, sehr differenzierten Improvisations Konzepten.\nDie Band besteht seit drei Jahren und wird demnächst auch in Österreich\, der Schweiz\, Großbritannien und Japan zu hören sein.)
URL:https://www.loftkoeln.de/event/aki-and-the-good-boys/
END:VEVENT
END:VCALENDAR