BEGIN:VCALENDAR
VERSION:2.0
PRODID:-//www.loftkoeln.de - ECPv5.14.2.1//NONSGML v1.0//EN
CALSCALE:GREGORIAN
METHOD:PUBLISH
X-WR-CALNAME:www.loftkoeln.de
X-ORIGINAL-URL:https://www.loftkoeln.de
X-WR-CALDESC:Veranstaltungen für www.loftkoeln.de
BEGIN:VTIMEZONE
TZID:UTC
BEGIN:STANDARD
TZOFFSETFROM:+0000
TZOFFSETTO:+0000
TZNAME:UTC
DTSTART:20150101T000000
END:STANDARD
END:VTIMEZONE
BEGIN:VEVENT
DTSTART;TZID=UTC:20150830T203000
DTEND;TZID=UTC:20150830T203000
DTSTAMP:20260424T173612
CREATED:20170303T090827Z
LAST-MODIFIED:20170303T090827Z
UID:4058-1440966600-1440966600@www.loftkoeln.de
SUMMARY:Abschlusskonzert Stijn Demuynck  „STORYTELLERS“           
DESCRIPTION:Thea Soti – Gesang\nElisabeth Fügemann – Cello\nStijn Demuynck- Schlagzeug \n\nDer belgische Schlagzeuger Stijn Demuynck lädt Sängerin Thea Soti und Cellistin Elisabeth Fügemann ein\, um seine musikalische Reise nach Köln zu begleiten. Zusammen erzählen sie ihre eigenen Geschichten und erwecken sie in dieser ganz besonderen Besetzung zu neuem Leben.
URL:https://www.loftkoeln.de/event/abschlusskonzert-stijn-demuynck-%e2%80%9estorytellers%e2%80%9c%c2%a0%c2%a0%c2%a0%c2%a0%c2%a0%c2%a0%c2%a0%c2%a0%c2%a0%c2%a0%c2%a0/
END:VEVENT
END:VCALENDAR