BEGIN:VCALENDAR
VERSION:2.0
PRODID:-//www.loftkoeln.de - ECPv5.14.2.1//NONSGML v1.0//EN
CALSCALE:GREGORIAN
METHOD:PUBLISH
X-WR-CALNAME:www.loftkoeln.de
X-ORIGINAL-URL:https://www.loftkoeln.de
X-WR-CALDESC:Veranstaltungen für www.loftkoeln.de
BEGIN:VTIMEZONE
TZID:UTC
BEGIN:STANDARD
TZOFFSETFROM:+0000
TZOFFSETTO:+0000
TZNAME:UTC
DTSTART:20170101T000000
END:STANDARD
END:VTIMEZONE
BEGIN:VEVENT
DTSTART;TZID=UTC:20171005T210000
DTEND;TZID=UTC:20171005T210000
DTSTAMP:20260420T212337
CREATED:20170817T110544Z
LAST-MODIFIED:20171005T131122Z
UID:5057-1507237200-1507237200@www.loftkoeln.de
SUMMARY:ABGESAGT: Bastian Stein - Viktor
DESCRIPTION:Bastian Stein – trumpet\nUli Kempendorff – sax\n Phil Donkin – bass\nRoberto Pistolesi – drums \n\nSturmtief „Xavier“ macht auch uns heute einen Strich durch die Rechnung: einige Musiker werden es nicht rechtzeitig nach Köln schaffen\, das Konzert muss deswegen leider entfallen ! \n© Alessandro de Matteis\nÜberschwänglicher als der Pirouet-Erstling dieses Musikers im Frühjahr 2013 wird selten eine CD gefeiert. „Was für ein Ton!“ – mit diesem Ausruf etwa begann die Besprechung im Magazin „Audio“\, die dann den „facettenreichen“ und „weichen“ Ton des Bandleaders lobte und diese Musik als „Filigran-Jazz“ etikettierte. „Eine wunderschöne CD“\, befand die Fachzeitschrift „Jazzpodium“. Und der Radiosender BR-Klassik attestierte Steins Musik „poetische Kraft und viel Ruhe“. Stein selber verfüge\, hieß es da weiter\, über ein „makelloses Spiel“\, das er dazu nutze\, „Klänge und Läufe seiner raffiniert schönen Melodien in alle Richtungen nuancenreich auszuformen\, ohne dabei je den Eindruck zu vermitteln\, ein muskulär-sportlicher Spieler zu sein“. Ein Musiker\, der etwas zu sagen hat – und der das mit außerordentlich feinen und gut gestalteten Tönen tut: So könnte man das zusammenfassen. Und genau das sind die besonderen Merkmale dieses 1983 in Heidelberg geborenen Trompeters\, der seit seinem fünften Lebensjahr in Wien aufwuchs\, dort sowie in Amsterdam und New York ausgebildet wurde und jetzt in Köln lebt. Nun stellt Stein\, mit Uli Kempendorff (Saxofon)\, Phil Donkin (Bass) und James Maddren (Drums)\, sein neues hochkarätig besetztes Projekt vor. Die CD erschien im Februar 2016 ebenfalls bei Pirouet Records. Hören sie rein! \nhttp://bastianstein.com/de/ \nhttp://www.pirouet.com/home/album.php?release=PIT3091
URL:https://www.loftkoeln.de/event/abgesagt-bastian-stein-viktor/
END:VEVENT
END:VCALENDAR