BEGIN:VCALENDAR
VERSION:2.0
PRODID:-//www.loftkoeln.de - ECPv5.14.2.1//NONSGML v1.0//EN
CALSCALE:GREGORIAN
METHOD:PUBLISH
X-WR-CALNAME:www.loftkoeln.de
X-ORIGINAL-URL:https://www.loftkoeln.de
X-WR-CALDESC:Veranstaltungen für www.loftkoeln.de
BEGIN:VTIMEZONE
TZID:UTC
BEGIN:STANDARD
TZOFFSETFROM:+0000
TZOFFSETTO:+0000
TZNAME:UTC
DTSTART:20170101T000000
END:STANDARD
END:VTIMEZONE
BEGIN:VEVENT
DTSTART;TZID=UTC:20171207T200000
DTEND;TZID=UTC:20171207T200000
DTSTAMP:20260425T193030
CREATED:20171018T122947Z
LAST-MODIFIED:20171018T123157Z
UID:5609-1512676800-1512676800@www.loftkoeln.de
SUMMARY:AAA---AAA: 90º+1+popwasneverdead
DESCRIPTION:Timm Roller – (E-)Gitarre\nThilo Ruck – (E-)Gitarre \n\nEine 360º-Wendung ist schon richtig viel. Dass 90º ausreichen können macht Michael Maierhof vor\, Malte Giesen erweitert um eine Sing-Stimme\, Sascha Thiele und Jesse Broekman retten den Pop. (E-)Gitarren\, Zahnbürsten\, Generic MIDI Sample-Libraries\, Pop\, Noise\, Contemporary Classical. \nStücke: \nMichael Maierhof: specific objects\, 9min (2014/15) \nMalte Giesen: unisono 3: Singer-Songwriter (2015) \nSascha Thiele: N.N. (2017 – UA) \nJesse Broekman: The discord merely magnifies #2 (2014) \n\nAAA—AAA sind Timm Roller und Thilo Ruck.\nStatt ihre gemeinsamen Initialen als Duonamen zu nutzen\, entschieden sie sich dafür den Titel einer Performance des damaligen Künstler-Ehepaares Marina Abramović und Ulay zu entlehnen\, in der diese sich gegenseitig anschrien bis ihnen die Stimmen versagten.\nMit E-Gitarren\, Gitarren\, Elektronik und ad hoc-Instrumenten arbeiten sie als Performer und Interpreten zeitgenössischer Musik – oft in enger Zusammenarbeit mit Komponisten und in der Konzeption um Umsetzung eigener Improvisations- und Konzertformate.\nBeim Karlsruher Wettbewerb für die Interpretation zeitgenössischer Musik 2013 gewannen sie den 1. Preis. Konzerte u.a. bei Eclat Festival Stuttgart\, Blurred Edges Festival Hamburg\, Kyung Hee University Soeul/Südkorea\, Staatstheater Stuttgart\, Staatsgalerie Stuttgart und Hightide-Festival Mannheim.\nEngagements durch die Oper Frankfurt am Main für Helmut Lachenmanns Das Mädchen mit den Schwefelhölzern.\nStipendien und Förderungen u.a. durch den Deutschen Musikrat\, die Landesbank Baden-Württemberg und dem Innovations-Fonds Baden-Württemberg.\nUraufführungen u.a. von Malte Giesen\, Michael Maierhof\, Nico Sauer\, Davor Vincze\, Philipp Krebs und Jesse Broekman. \n \n 
URL:https://www.loftkoeln.de/event/aaa-aaa-90%c2%ba1popwasneverdead/
END:VEVENT
END:VCALENDAR