BEGIN:VCALENDAR
VERSION:2.0
PRODID:-//www.loftkoeln.de - ECPv5.14.2.1//NONSGML v1.0//EN
CALSCALE:GREGORIAN
METHOD:PUBLISH
X-WR-CALNAME:www.loftkoeln.de
X-ORIGINAL-URL:https://www.loftkoeln.de
X-WR-CALDESC:Veranstaltungen für www.loftkoeln.de
BEGIN:VTIMEZONE
TZID:Europe/Berlin
BEGIN:DAYLIGHT
TZOFFSETFROM:+0100
TZOFFSETTO:+0200
TZNAME:CEST
DTSTART:20250330T010000
END:DAYLIGHT
BEGIN:STANDARD
TZOFFSETFROM:+0200
TZOFFSETTO:+0100
TZNAME:CET
DTSTART:20251026T010000
END:STANDARD
END:VTIMEZONE
BEGIN:VEVENT
DTSTART;TZID=Europe/Berlin:20250706T200000
DTEND;TZID=Europe/Berlin:20250706T200000
DTSTAMP:20260420T181755
CREATED:20250512T152543Z
LAST-MODIFIED:20250825T070453Z
UID:29980-1751832000-1751832000@www.loftkoeln.de
SUMMARY:A-Trio (Neue Musik) | Release-Konzert: Fusion
DESCRIPTION:Margarita Rumyantseva – E-Geige\nYuriy Broshel – Saxophon\nDenis Ivanov – Piano \n\n(english: see below) \nWeitere Informationen zu den Preisen\, Karten-Reservierungen und den Öffnungszeiten finden Sie hier.\n\nA-Trio\nA-Trio spezialisiert sich vor allem auf zeitgenössische Musik. Die Zusammensetzung der Instrumente ist zwar ungewöhnlich\, aber sehr reizvoll. Mit dem Aufkommen der E-Violine kann sich das Ensemble zusammen mit verschiedenen Arten des Saxophons und mit dem Klangspektrum des präparierten Klaviers grenzenlos in allen musikalischen Genres bewegen. Das A-Trio ist an Korrekturen und Redaktionen von komponierten Stücken beteiligt. So eine Art der kreativen Kommunikation inspiriert die Musiker aus dem Trio selber\, manche Stücke zu arrangieren und sogar zu komponieren. \nIm Jahr 2021 nahm das A-Trio beim Deutschlandfunk auf. Das Ensemble nimmt regelmäßig an verschiedenen Foren und Festivals der Neuen Musik teil. Zudem gab das A-Trio Konzerte in Deutschland\, Russland\, Luxemburg und Zypern. \n\nKlingt so: \n\n\n\n\nMargarita Rumyantseva – electric violin\nYuriy Broshel – saxophone\nDenis Ivanov – piano \nFurther information about prices\, ticket reservations and our opening times can be found here. \nA-Trio specializes primarily in contemporary music. The composition of the instruments is unusual\, but very appealing. With the advent of the electric violin\, the ensemble\, together with various types of saxophone and the sound spectrum of the prepared piano\, can move limitlessly in all musical genres. The A-Trio is involved in corrections and editing of composed pieces. This kind of creative communication inspires the musicians in the trio themselves to arrange and even compose some pieces.\nIn 2021\, the A-Trio recorded for Deutschlandfunk. The ensemble regularly takes part in various new music forums and festivals. The A-Trio has also given concerts in Germany\, Russia\, Luxembourg and Cyprus. \n 
URL:https://www.loftkoeln.de/event/a-trio-release-konzert-fusion/
END:VEVENT
END:VCALENDAR