BEGIN:VCALENDAR
VERSION:2.0
PRODID:-//www.loftkoeln.de - ECPv5.14.2.1//NONSGML v1.0//EN
CALSCALE:GREGORIAN
METHOD:PUBLISH
X-WR-CALNAME:www.loftkoeln.de
X-ORIGINAL-URL:https://www.loftkoeln.de
X-WR-CALDESC:Veranstaltungen für www.loftkoeln.de
BEGIN:VTIMEZONE
TZID:UTC
BEGIN:STANDARD
TZOFFSETFROM:+0000
TZOFFSETTO:+0000
TZNAME:UTC
DTSTART:20070101T000000
END:STANDARD
END:VTIMEZONE
BEGIN:VEVENT
DTSTART;TZID=UTC:20070322T203000
DTEND;TZID=UTC:20070322T203000
DTSTAMP:20260423T004706
CREATED:20181228T151431Z
LAST-MODIFIED:20220831T113708Z
UID:10563-1174595400-1174595400@www.loftkoeln.de
SUMMARY:3x3 - die Kunst des Trios: "Nu RISM"
DESCRIPTION:Hans Lüdemann – piano/virtual piano\nRobert Landfermann – bass\nJonas Burgwinkel – dr \n\nHans Lüdemann startet eine neue Trioreihe\, in welcher er sich mit unterschiedlichen Formationen und Programmen vorstellt. Beteiligt sind Musiker der Kölner\, der deutschen und der internationalen Szene. Das erste Trio der Reihe bringt ihn zusammen mit dem starken jungen Kölner Rhythmusteam Robert Landfehrmann und Jonas Burgwinkel. Beide haben bereits Erfahrung mit Lüdemanns Musik aus seinen „Futurism“- Projekten. Daran wollen die drei anknüpfen mit einer sehr rhythmisch angelegten Triokonzeption. Hans Lüdemann erweitert den Konzertflügel mit „virtuellen“\, gesampelten Klavierklängen. \nHans Lüdemann gilt als „einer der eigenwilligsten und ausdrucksstärksten europäischen Pianisten“ (Jazz Podium) oder schlicht „einer der grossen Pianisten des deutschen Jazz“ (Frankfurter Rundschau) mit einer „erkennbar eigenen Sprache“ (FAZ). Er ist Pianist\, Komponist\, Bandleader (RISM\, TRIO IVOIRE) und Dozent an der Musikhochschule Köln und der Europäischen Akademie Montepulciano. \nDie Reihe „3×3 – die Kunst des Trios“ wird gefördert von der SK Stiftung. \nSpeziellen Dank an Native Instruments für die Unterstützung
URL:https://www.loftkoeln.de/event/3x3-die-kunst-des-trios-nu-rism/
END:VEVENT
END:VCALENDAR