BEGIN:VCALENDAR
VERSION:2.0
PRODID:-//www.loftkoeln.de - ECPv5.14.2.1//NONSGML v1.0//EN
CALSCALE:GREGORIAN
METHOD:PUBLISH
X-WR-CALNAME:www.loftkoeln.de
X-ORIGINAL-URL:https://www.loftkoeln.de
X-WR-CALDESC:Veranstaltungen für www.loftkoeln.de
BEGIN:VTIMEZONE
TZID:Europe/Berlin
BEGIN:DAYLIGHT
TZOFFSETFROM:+0100
TZOFFSETTO:+0200
TZNAME:CEST
DTSTART:20220327T010000
END:DAYLIGHT
BEGIN:STANDARD
TZOFFSETFROM:+0200
TZOFFSETTO:+0100
TZNAME:CET
DTSTART:20221030T010000
END:STANDARD
END:VTIMEZONE
BEGIN:VEVENT
DTSTART;TZID=Europe/Berlin:20220829T203000
DTEND;TZID=Europe/Berlin:20220829T203000
DTSTAMP:20260423T080502
CREATED:20220613T104548Z
LAST-MODIFIED:20230117T123744Z
UID:20961-1661805000-1661805000@www.loftkoeln.de
SUMMARY:3000  | live recording & livestream
DESCRIPTION:Jan Klare – Saxophon\nBart Maris – Trompete\nSteve Swell – Posaune\nWilbert de Joode – Bass\nMichael Vatcher – Schlagzeug\n \n\n(english: see below) \nInformationen zu den Preisen\, Karten-Reservierungen und den Öffnungszeiten finden Sie hier.\n \nS. Swell © Marek Lazarski \, 2000 © André Symann\nIm Jahr 2004 gründete Jan Klare die Band „1000“ – mit Kompositionen von Wagner\, Bach und Monteverdi – und etablierte damit schon früh einen einzigartigen Stil\, der die Kritiker von Anfang an beeindruckte: „Ein durchweg interessantes Quartett\, das sich mit jeder Veröffentlichung weiterentwickelt und besser wird.“ Bruce Lee Gallanter\, Downtown Music Gallery \nhttp://www.janklare.de/projects/\n\nFür das Jahr 2022 ist nun geplant\, auf hohem Niveau tiefer in die Beziehung zwischen dem amerikanischen und dem europäischen Jazz einzutauchen. „3000“ ist neben dem holländischen Bassisten Wilbert de Joode\, welcher eng mit dem so genannten holländischen Swing verbunden ist\, mit zwei prominenten amerikanischen Musikern besetzt: Steve Swell spielte mit Buddy Rich und Lionel Hampton\, Michael Vatcher mit John Zorn\, neben vielen anderen. Swells Arbeit konzentriert sich auf eine kompositorische Sprache\, die sich aus seiner langjährigen Arbeit als Improvisator speist. Er ist eine Hauptfigur des Avantgarde-Jazz und wurde von einigen der größten Improvisatoren wie William Parker\, Peter Brötzmann\, Ken Vandermark oder Paal Nillsen-Love für ihre Bands ausgewählt. \n3000 arbeitet an neuen Stücken\, entwickelt Form und Struktur durch Improvisationen und „verdreht“ Kompositionen auf der Stelle zu einem flüssigen Spiel.\n3000 betrachtet die Melodie als eine der allerersten kulturellen Errungenschaften überhaupt. Deshalb werden sie sich an Interpretationen einiger der ersten notierten Melodien versuchen. \n\n\nJan Klare – reeds\nBart Maris – trumpet\nSteve Swell – trombone\nWilbert de Joode – bass\nMichael Vatcher – drums\nInformation about prices\, ticket reservations and our opening times can be found here. \nIn 2004 Jan Klare founded the band 1000 – playing compositions by Wagner\, Bach or Monteverdi – thus early-on establishing an unique style \, that impressed the critics right from the start. („consistently interesting quartet that keeps evolving and getting better with each release.“ Bruce Lee Gallanter\, Downtown Music Gallery).\nNow\, for 2022\, there is a plan to dive deeper into the relationship of the fields of American and European Jazz on a high level\, since “3000” contains two prominent American musicians (Steve Swell played with Buddy Rich and Lionel Hampton\, Michael Vatcher with John Zorn\, next to many others) alongside with Dutch bassist Wilbert de Joode\, who is closely associated with the so-called Dutch swing.\nSwells work has focussed on a compositional language that nourishes from his work as an improviser for many years. He is a main figure in avantgarde jazz\, being picked by some of the greatest improvisers like William Parker\, Peter Brötzmann\, Ken Vandermark or Paal Nillsen-Love for their bands. \n3000 will work on new pieces\, developing form and structure through improvising and “twisting” compositions on the spot into fluid playing.\n3000 looks at melody as one of the very first cultural achievements ever. Therefore they will try interpretations of some of the first notated melodies.
URL:https://www.loftkoeln.de/event/3000/
END:VEVENT
END:VCALENDAR