BEGIN:VCALENDAR
VERSION:2.0
PRODID:-//www.loftkoeln.de - ECPv5.14.2.1//NONSGML v1.0//EN
CALSCALE:GREGORIAN
METHOD:PUBLISH
X-WR-CALNAME:www.loftkoeln.de
X-ORIGINAL-URL:https://www.loftkoeln.de
X-WR-CALDESC:Veranstaltungen für www.loftkoeln.de
BEGIN:VTIMEZONE
TZID:UTC
BEGIN:STANDARD
TZOFFSETFROM:+0000
TZOFFSETTO:+0000
TZNAME:UTC
DTSTART:20040101T000000
END:STANDARD
END:VTIMEZONE
BEGIN:VEVENT
DTSTART;TZID=UTC:20041120T203000
DTEND;TZID=UTC:20041120T203000
DTSTAMP:20260422T162133
CREATED:20210920T051407Z
LAST-MODIFIED:20210920T051407Z
UID:18209-1100982600-1100982600@www.loftkoeln.de
SUMMARY:25 JAHRE LEO RECORDS
DESCRIPTION:Doppel-Duo: \nAki Takase – piano\nRudi Mahall – bcl\n&\nFrank Gratkowski – sax\nXu Fengxia – Guzheng \n\nZum 15 jährigen Jubiläum brachte das LOFT zusammen mit dem englischen Verlag Leo records eine CD zum gemeinsamen Jubiläum 15 Jahre Loft/ 25 Jahre Leo records heraus – eine Aufnahme des Frank Gratkowski Projektes vom Festival Moers 2003 – Nun findet auch eine Gebutstagsfeier für das renommierte Label im LOFT statt mit bekannten Künstlern\, die bei Leo veröffentlicht haben. \n2 Duos der Extra klasse- Rudi Mahall und Aki Takase spielten schon in Rahmen der Triennale 2000 im LOFT.\nFrank Gratkowski hat sich die Guzheng Spielerin Xu Feng Xia eingeladen\, die im LOFT schon mit Michael Heupel auftrat und bei einem Moers Projekt des LOFTs mitwirkte.
URL:https://www.loftkoeln.de/event/25-jahre-leo-records/
END:VEVENT
END:VCALENDAR