BEGIN:VCALENDAR
VERSION:2.0
PRODID:-//www.loftkoeln.de - ECPv5.14.2.1//NONSGML v1.0//EN
CALSCALE:GREGORIAN
METHOD:PUBLISH
X-WR-CALNAME:www.loftkoeln.de
X-ORIGINAL-URL:https://www.loftkoeln.de
X-WR-CALDESC:Veranstaltungen für www.loftkoeln.de
BEGIN:VTIMEZONE
TZID:UTC
BEGIN:STANDARD
TZOFFSETFROM:+0000
TZOFFSETTO:+0000
TZNAME:UTC
DTSTART:20080101T000000
END:STANDARD
END:VTIMEZONE
BEGIN:VEVENT
DTSTART;TZID=UTC:20080601T203000
DTEND;TZID=UTC:20080601T203000
DTSTAMP:20260420T100200
CREATED:20180820T123125Z
LAST-MODIFIED:20180820T123125Z
UID:9136-1212352200-1212352200@www.loftkoeln.de
SUMMARY:2 2 2 +  // Musik für Instrumente und Lautsprecher
DESCRIPTION:Alejandro Garavaglia – Bratsche\, Live-Elektronik\nThomas Gerwin – Live-Elektronik\, Percussion\nHaarmann – Mandoline\, Laptop \n\nDieses Konzert präsentiert drei unterschiedliche Positionen zeitgenössischer Musik mit elektroakustischen Mitteln und fächert dabei ein breites Spektrum an studiotechnischen und live-elektronischen Gestaltungsmöglichkeiten auf. Aus der Gegenüberstellung entwickelt sich eine Klang-Choreographie\, die in einer gemeinsamen Improvisation der Protagonisten mündet\, in der die verschiedenen Elemente teils stark kontrastieren\, teils symbiotisch verschmelzen \nJavier Alejandro Garavaglia \nKomponist und Bratschenspieler ist Professor in Komposition. Kursleiter des BA Sound & Media am Sir John Cass Dept. of Art\, Media and Design -London Metropolitan University (London – UK). Führung der Studios an derselben Institution. Seine Kompositionen umfassen den Bereich zwischen solo Instrumenten und große Besetzungen und die Arbeit mit elektronischen Medien (Computer) zusammen mit traditionellen Instrumenten. Aufführungen in Europa\, Asien und die Amerikas. Elektroakustische Stücke erhältlich auf kommerziellen CDs bei CYBELE (Deutschland)\, UNLa – Universidad de Lanús (Argentinien) und EFM (USA).\nicem.folkwang-hochschule.de/~gara/ \nThomas Gerwin\nist klassisch ausgebildeter Komponist und Klangkünstler. Er kam sehr früh zur elektroakustischen Musik\, seit 1990 arbeitet er außerdem intensiv im Bereich „Soundscape Composition“ und Radiokunst. Als Ausdrucksmittel seiner raumkünstlerischen Arbeiten bezieht er immer wieder neue Medien\, Theater\, Tanz\, Film und Skulptur mit ein. Gerwin leitet das „Berliner Lautsprecher-Orchester“\, die Konzertreihe „KlangWelten“ sowie das „Internationale Klangkunstfest“ in Berlin. Er wurde mit verschiedenen internationalen Preisen und Stipendien ausgezeichnet\, seine Werke werden weltweit aufgeführt und ausgestellt.\nwww.thomasgerwin.de \n  \nHaarmann (Mandoline\, Laptop)\narbeitet als Komponist für Radio\, Theater und die Konzertbühne und als Klangkünstler im Bereich der Bildenden Kunst. Er hat zahlreiche Hörspielmusiken geschrieben\, unter anderen für Fausto Paravidinos „Genua 01“\, dass 2004 den ARD- Online- Award gewonnen hat\, und zuletzt für “Die Sirenen von Bagdad” von Yasmina Khadra. Als Installation war Ende 2007 die Arbeit “Lava-Room II” in Essen zu sehen. Bei seinen Kompositionen spielt die Kombination von traditionellen Instrumenten und Elektronik eine tragende Rolle.\nwww.klangkunstlabor.de
URL:https://www.loftkoeln.de/event/2-2-2-musik-fuer-instrumente-und-lautsprecher/
END:VEVENT
END:VCALENDAR