BEGIN:VCALENDAR
VERSION:2.0
PRODID:-//www.loftkoeln.de - ECPv5.14.2.1//NONSGML v1.0//EN
CALSCALE:GREGORIAN
METHOD:PUBLISH
X-WR-CALNAME:www.loftkoeln.de
X-ORIGINAL-URL:https://www.loftkoeln.de
X-WR-CALDESC:Veranstaltungen für www.loftkoeln.de
BEGIN:VTIMEZONE
TZID:Europe/Berlin
BEGIN:DAYLIGHT
TZOFFSETFROM:+0100
TZOFFSETTO:+0200
TZNAME:CEST
DTSTART:20040328T010000
END:DAYLIGHT
BEGIN:STANDARD
TZOFFSETFROM:+0200
TZOFFSETTO:+0100
TZNAME:CET
DTSTART:20041031T010000
END:STANDARD
END:VTIMEZONE
BEGIN:VEVENT
DTSTART;TZID=Europe/Berlin:20040928T203000
DTEND;TZID=Europe/Berlin:20040928T203000
DTSTAMP:20260422T225602
CREATED:20260331T094250Z
LAST-MODIFIED:20260331T094723Z
UID:32566-1096403400-1096403400@www.loftkoeln.de
SUMMARY:15 Jahre LOFT - Trio: KAUFMANN - GRATKOWSKI - DE JOODE
DESCRIPTION:Achim Kaufmann – piano\nFrank Gratkowski – alto saxophone\, clarinets\nWilbert de Joode – bass \nAchim Kaufmann: „Anfang 2002 spielten wir unser erstes Triokonzert im Amsterdamer Zaal 100. Gerade in der Zeit hatte ich auch einige Duokonzerte mit Frank – nach vielen Jahren wieder. Das zusammentreffen im Trio brachte dann noch eine zusätzliche Dimension – Wilberts Sinn für Drama\, für Extremhandlungen\, war eine unschätzbare Bereicherung. Was mich vor allem interessiert\, ist Ensemblemusik. Das Aufeinandertreffen dreier musikalischer Energien. Instrumentalklänge\, verschmelzend oder kontrastierend. Balance – off balance. Momente der Gefährdung. Nicht unbedingt Geschlossenheit.Dafür Spannung – excitement. Im April 2003 gab es eine Reihe von Konzerten in verschiedenen Ländern (teils auch mit Gästen). Anfang 2004 erschien die CD kwast mit Liveaufnahmen des Trios.“
URL:https://www.loftkoeln.de/event/15-jahre-loft-trio-kaufmann-gratkowski-de-joode/
END:VEVENT
END:VCALENDAR