BEGIN:VCALENDAR
VERSION:2.0
PRODID:-//www.loftkoeln.de - ECPv5.14.2.1//NONSGML v1.0//EN
CALSCALE:GREGORIAN
METHOD:PUBLISH
X-WR-CALNAME:www.loftkoeln.de
X-ORIGINAL-URL:https://www.loftkoeln.de
X-WR-CALDESC:Veranstaltungen für www.loftkoeln.de
BEGIN:VTIMEZONE
TZID:Europe/Berlin
BEGIN:DAYLIGHT
TZOFFSETFROM:+0100
TZOFFSETTO:+0200
TZNAME:CEST
DTSTART:20040328T010000
END:DAYLIGHT
BEGIN:STANDARD
TZOFFSETFROM:+0200
TZOFFSETTO:+0100
TZNAME:CET
DTSTART:20041031T010000
END:STANDARD
END:VTIMEZONE
BEGIN:VEVENT
DTSTART;TZID=Europe/Berlin:20040930T203000
DTEND;TZID=Europe/Berlin:20040930T203000
DTSTAMP:20260422T194131
CREATED:20260331T094048Z
LAST-MODIFIED:20260331T094431Z
UID:32564-1096576200-1096576200@www.loftkoeln.de
SUMMARY:15 Jahre LOFT - James Choice Orchester
DESCRIPTION:Thomas Heberer – Trompete ; Stefan Meinberg – Trompete\nMatthias Mainz – Trompete ; Michael Heupel – Flöten\nCarl Ludwig Hübsch – Tuba ; Frank Gratkowski – Altsaxophon\, Klarinetten\, Sopraninosaxophon Matthias Schubert – Tenorsaxophon ; Norbert Stein – Tenorsaxophon ; Radek Stawarz – Violine Melvin Poore – Tuba ; Scott Roller – Violoncello ; Sebastian Grams – Kontrabass\nBarbara Schachtner – Gesang\, Stimme ; Thomas Lehn – Synthesizer\nPhilip Zoubek – Piano ; Tom Lorenz – Vibraphon ; Peter Eisold- Schlagzeug \nORCHESTERPROJEKT von Norbert Stein\, Frank Gratkowski\, Matthias Schubert und C.L. Hübsch zu  öglichkeiten der Synthese von zeitgenössischer Komposition und Improvisation. \n 
URL:https://www.loftkoeln.de/event/15-jahre-loft-james-choice-orchester/
END:VEVENT
END:VCALENDAR