BEGIN:VCALENDAR
VERSION:2.0
PRODID:-//www.loftkoeln.de - ECPv5.14.2.1//NONSGML v1.0//EN
CALSCALE:GREGORIAN
METHOD:PUBLISH
X-WR-CALNAME:www.loftkoeln.de
X-ORIGINAL-URL:https://www.loftkoeln.de
X-WR-CALDESC:Veranstaltungen für www.loftkoeln.de
BEGIN:VTIMEZONE
TZID:Europe/Berlin
BEGIN:DAYLIGHT
TZOFFSETFROM:+0100
TZOFFSETTO:+0200
TZNAME:CEST
DTSTART:20040328T010000
END:DAYLIGHT
BEGIN:STANDARD
TZOFFSETFROM:+0200
TZOFFSETTO:+0100
TZNAME:CET
DTSTART:20041031T010000
END:STANDARD
END:VTIMEZONE
BEGIN:VEVENT
DTSTART;TZID=Europe/Berlin:20040924T203000
DTEND;TZID=Europe/Berlin:20040924T203000
DTSTAMP:20260423T023651
CREATED:20260331T094852Z
LAST-MODIFIED:20260331T094852Z
UID:32578-1096057800-1096057800@www.loftkoeln.de
SUMMARY:15 Jahre LOFT -  COLOGNE JAZZ ASSOCIATION präsentiert: Paul Heller - Matthias Bergmann Quintett
DESCRIPTION:Paul Heller – sax\nMatthias Bergmann – flgh\nFlorian Ross – p\nChristian Ramond – b\nSebastian Merk – dr \nFür alle\, die das Good Vibes Benefizfestival im Juli im Stadtgarten verpasst haben oder aber dort vor 1 Uhr gehen mussten\, spielt das Paul Heller-Matthias Bergmann Quintett noch einmal zu gewohnter Uhrzeit im Loft. Neben den beiden Bandleadern an Saxophon und Flügelhorn sind an diesem Abend Pianist Florian Ross\, Bassist Christian Ramond sowie der Berliner Schlagzeuger Sebastian Merk zu hören.\nGespielt werden ausschliesslich Eigenkompositionen von Paul Heller.
URL:https://www.loftkoeln.de/event/15-jahre-loft-cologne-jazz-association-praesentiert-paul-heller-matthias-bergmann-quintett/
END:VEVENT
END:VCALENDAR