BEGIN:VCALENDAR
VERSION:2.0
PRODID:-//www.loftkoeln.de - ECPv5.14.2.1//NONSGML v1.0//EN
CALSCALE:GREGORIAN
METHOD:PUBLISH
X-WR-CALNAME:www.loftkoeln.de
X-ORIGINAL-URL:https://www.loftkoeln.de
X-WR-CALDESC:Veranstaltungen für www.loftkoeln.de
BEGIN:VTIMEZONE
TZID:Europe/Berlin
BEGIN:DAYLIGHT
TZOFFSETFROM:+0100
TZOFFSETTO:+0200
TZNAME:CEST
DTSTART:20250330T010000
END:DAYLIGHT
BEGIN:STANDARD
TZOFFSETFROM:+0200
TZOFFSETTO:+0100
TZNAME:CET
DTSTART:20251026T010000
END:STANDARD
END:VTIMEZONE
BEGIN:VEVENT
DTSTART;TZID=Europe/Berlin:20250605T200000
DTEND;TZID=Europe/Berlin:20250605T200000
DTSTAMP:20260421T125258
CREATED:20250505T153715Z
LAST-MODIFIED:20250522T064834Z
UID:29806-1749153600-1749153600@www.loftkoeln.de
SUMMARY:1. HΞLIX - FESTIVAL / Köln - day 1 | live recording
DESCRIPTION:DRUM SOLO I:\nDominik Mahnig – Schlagzeug \nBASSMASSE 4:\nRobert Landfermann\, David Helm\, Christian Ramond\, Sebastian Gramss – Bässe \nORBIT:\nHayden Chisholm\, Leonard Huhn\, Jonas Engel\, Dodó Kis – Holzblasinstrumente\nplus Enyalos Papadopoulos – Schlagzeug \nBASS DUO:\nRobert Landfermann & Sebastian Gramss – Bässe \nDRUM SOLO II:\nEnyalos Papadopoulos – Schlagzeug \nSebastian Gramss’ STATES OF PLAY – METEORS:\nLeonard Huhn – Saxophon\nJonas Engel – Saxophon\nChristian Lorenzen  – Tasteninstumente\nPhilip Zoubek – Tasteninstrumente\nSebastian Gramss – Bass\nDominik Mahnig – Schlagzeug \n\n(english: see below) \nWeitere Informationen zu den Preisen\, Karten-Reservierungen und den Öffnungszeiten finden Sie hier.\n„Time does not exist – we invented it.”\nAlbert Einstein\n\n\nWer erinnert sich nicht an die finale Film-Szene von Zorba The Greek\, in der Anthony Quinn den immer schneller werdenden Sirtaki tanzt?\nWer kennt nicht die endlosen Treppen und den ewigen Wasserfall von MC Escher?\nDies sind anschauliche Ausgangspunkte für ein ganz neues Phänomen von musikalischer Unendlichkeit – einer gänzlich neuen Art des Musizierens in Zeit-Spiralen. HΞLIX nennt sich die Umsetzung dieses faszinierenden – non linearen – Musik-Konzepts\, das der Kölner Musiker Sebastian Gramss seit Anfang 2022 erforscht und seitdem mit zahlreichen Musiker*innen realisiert hat. \n\n\nhttps://sebastiangramss.de/ \nIn HELIX Spiralen überlagern sich anschwellende und verblassende rhythmische Ströme und erzeugen den Eindruck einer kontinuierlichen Beschleunigung oder Verlangsamung. Alle klanglichen Ereignisse verschmelzen zu multiplen Accelerandi und Ritardandi.\nDieses weltweit neuartige Temposystem mit seinen faszinierenden Klangverdichtungen und Entschleunigungen wird mittlerweile von unterschiedlichen Ensembles umgesetzt. \n\n\nDas HΞLIX Festival vom 3. – 7. Juni 2025 in Köln präsentiert erstmals einige dieser außergewöhnlichen Projekte. \nNeben Performances von hochkarätigen Ensembles wie SLOWFOX 4\, BASSMASSE\, ORBIT\, SWIFT und COILim LOFT (mit Musiker*Innen wie Hayden Chisholm\, Julia Sanjurjo\, Paulo Alvarez\, Dodo Kis\, Robert Landfermann\, Enyalos Papadopoulos\, Dirk Rothbrust\, u.a.) findet auch das Release Konzert von STATES OF PLAY / METEORS neuem Album HΞLIX statt.\nAls Warm up gibt die Premiere des HΞLIX– Dokumentarfilms von Maurice Graf in den Studioräumen von Sebastian Gramss einen tieferen Einblick in das spektakuläre Schaffen des Kölner Komponisten und Konzeptualisten.\nAm gleichen Abend findet anschließend auch die Public Broadcast Session der Sendung Jazzfacts im Deutschlandfunk zum Thema HΞLIX statt. \nAm letzten Tag rundet ein Colloquium / offener Workshop zu den Grundlagen dieser neuen OPEN SOURCE Spiel- und Kompositionstechnik das außergewöhnliche Programm des HΞLIX Festivals ab.  Die Moderation übernimmt Prof. Dr. K. Rainer Nonnenmann\, die Musikern von SLOWFOX 4 werden ebenfalls teilnehmen. \n\nGefördert von:\n                       \n\n\nProgrammhinweis:\n\nDienstag 3. Juni 2025 – 19:00 Uhr\nINTRO @ STUDIO ORBITALE\n50674 Köln\, Vogteistr. 18a \n19:30 Uhr PREMIERE Dokumentarfilm: Helix\n\n21:00 Uhr PUBLIC BROADCAST Jazzfacts\, Deutschlandfunk\n2024 begleitete der Filmemacher Maurice Graf 12 Monate lang 70 Musiker*Innen\, die in unterschiedlichsten Umsetzungen mit dem neuartigen Helix-Phänomen arbeiteten und musizierten.\nIm Anschluss folgt als Live Übertragung die Deutschlandfunk-Sendung Jazzfacts\, mit Auszügen aus der neuen HΞLIX Produktion von STATES OF PLAY – METEORS. \n\n\n\n\n\nDRUM SOLO I:\nDominik Mahnig – drums\n \nBASSMASSE 4:\nRobert Landfermann\, David Helm\, Christian Ramond\, Sebastian Gramss – basses \nORBIT:\nHayden Chisholm\, Leonard Huhn\, Jonas Engel\, Dodó Kis – reeds\nplus Enyalos Papadopoulos – drums \nBASS DUO:\nRobert Landfermann & Sebastian Gramss – basses \nDRUM SOLO II:\nEnyalos Papadopoulos – drums\n \nSebastian Gramss’ STATES OF PLAY – METEORS:\nLeonard Huhn – reeds\nJonas Engel – reeds\nChristian Lorenzen  – keys\nPhilip Zoubek – keys\nSebastian Gramss – bass\nDominik Mahnig – drums \nFurther information about prices\, ticket reservations and our opening times can be found here.\n\n„Time does not exist – we invented it.”\nAlbert Einstein\n\nWho doesn’t remember the final scene of Zorba The Greek\, in which Anthony Quinn dances the ever-accelerating sirtaki?\nWho doesn’t know the endless stairs and the eternal waterfall of MC Escher?\nThese are vivid starting points for a completely new phenomenon of musical infinity – a completely new way of making music in time spirals. HΞLIX is the name given to the implementation of this fascinating – non-linear – musical concept\, which Cologne-based musician Sebastian Gramss has been researching since the beginning of 2022 and has since realized with numerous musicians.\nIn HΞLIX Spirals\, swelling and fading rhythmic streams overlap and create the impression of a continuous acceleration or deceleration. All sonic events merge into multiple accelerandi and ritardandi.This worldwide new tempo system with its fascinating sound intensifications and decelerations is now used by various ensembles.The HΞLIX Festival from June 3 – 7\, 2025 in Cologne presents some of these extraordinary projects for the first time.In addition to performances by top-class ensembles such as SLOWFOX 4\, BASSMASSE\, ORBIT\, SWIFT and COIL at the  LOFT (with musicians such as Hayden Chisholm\, Julia Sanjurjo\, Paulo Alvarez\, Dodo Kis\, Robert Landfermann\, Enyalos Papadopoulos\, Dirk Rothbrust\, among others)\, the release concert for STATES OF PLAY / METEORS‘ new album HΞLIX will also take place.\nAs a warm-up\, the premiere of the HΞLIX documentary film by Maurice Graf in the studio rooms of Sebastian Gramss will provide a deeper insight into the spectacular work of the Cologne composer and conceptualist.\nOn the same evening\, the public broadcast session of the program Jazzfacts on Deutschlandfunk will also take place on the subject of HΞLIX.On the last day\, a colloquium / open workshop on the basics of this new OPEN SOURCE playing and composition technique will round off the extraordinary program of the HΞLIX Festival. The moderator will be Prof. Dr. K. Rainer Nonnenmann\, the musicians of SLOWFOX 4 will also participate. \n\nProgram note: \nTuesday June 3rd\, 2025 – 7:00 p.m\nINTRO @ STUDIO ORBITALE\n50674 Cologne\, Vogteistr. 18a \n19:30 PREMIERE Documentary film: Helix \n21:00 PUBLIC BROADCAST Jazzfacts\, Deutschlandfunk\nIn 2024\, filmmaker Maurice Graf accompanied 70 musicians for 12 months as they worked and played with the new Helix phenomenon in a wide variety of settings.\nThis will be followed by a live broadcast of the Deutschlandfunk program Jazzfacts\, with excerpts from the new Helix production of STATES OF PLAY – METEORS \n\n 
URL:https://www.loftkoeln.de/event/1-h%ce%belix-festival-koeln-day-1-live-recording/
END:VEVENT
END:VCALENDAR