BEGIN:VCALENDAR
VERSION:2.0
PRODID:-//www.loftkoeln.de - ECPv5.14.2.1//NONSGML v1.0//EN
CALSCALE:GREGORIAN
METHOD:PUBLISH
X-WR-CALNAME:www.loftkoeln.de
X-ORIGINAL-URL:https://www.loftkoeln.de
X-WR-CALDESC:Veranstaltungen für www.loftkoeln.de
BEGIN:VTIMEZONE
TZID:UTC
BEGIN:STANDARD
TZOFFSETFROM:+0000
TZOFFSETTO:+0000
TZNAME:UTC
DTSTART:20180101T000000
END:STANDARD
END:VTIMEZONE
BEGIN:VEVENT
DTSTART;TZID=UTC:20180120T203000
DTEND;TZID=UTC:20180120T203000
DTSTAMP:20260425T124637
CREATED:20171201T134122Z
LAST-MODIFIED:20171201T134509Z
UID:6852-1516480200-1516480200@www.loftkoeln.de
SUMMARY:﻿Ugurel & Rossy
DESCRIPTION:Christian Ugurel – tenor sax\n Jaume Llombart – guitar\n Santi Careta – guitar\n Jorge Rossy – drums \n\nDer (neu-) Essener Christian Ugurel präsentiert sein Quartett aus seiner alten Wahlheimat Katalonien. Das Debütalbum „Cercles“ wurde im Studio der Schlagzeug-Legende Jorge Rossy aufgenommen. Im Mittelpunkt stehen skizzenhafte Kompositionen\, die Strukturen wie in einem Kanon oder Choral oder alternative harmonische Konzepte wie bei Messiaen aufgreifen und die der offenen Besetzung größtmöglichen Improvisationsfreiraum lassen. \nwww.ugurel.de
URL:https://www.loftkoeln.de/event/%ef%bb%bfugurel-rossy/
END:VEVENT
END:VCALENDAR