BEGIN:VCALENDAR
VERSION:2.0
PRODID:-//www.loftkoeln.de - ECPv5.14.2.1//NONSGML v1.0//EN
CALSCALE:GREGORIAN
METHOD:PUBLISH
X-WR-CALNAME:www.loftkoeln.de
X-ORIGINAL-URL:https://www.loftkoeln.de
X-WR-CALDESC:Veranstaltungen für www.loftkoeln.de
BEGIN:VTIMEZONE
TZID:UTC
BEGIN:STANDARD
TZOFFSETFROM:+0000
TZOFFSETTO:+0000
TZNAME:UTC
DTSTART:20190101T000000
END:STANDARD
END:VTIMEZONE
BEGIN:VEVENT
DTSTART;TZID=UTC:20190108T203000
DTEND;TZID=UTC:20190108T203000
DTSTAMP:20260420T174837
CREATED:20181129T110741Z
LAST-MODIFIED:20181201T134743Z
UID:10054-1546979400-1546979400@www.loftkoeln.de
SUMMARY:VASSVIK · Arctic Avantgarde Sámi Joik
DESCRIPTION:Torgeir Vassvik – Joik\, Gitarre\, Frame Drum\, div.\nHans P. Kjorstad – Violine\nRasmus Kjorstad – Oktav-Violine\nAudun Strype – Sounddesign\, FOH \n\n© Bart Vanoutrive\nVASSVIK ist die Formation um den samischen Soundpoeten Torgeir Vassvik aus Norwegen. Ausgangspunkt seiner Musik ist der Joik\, die im Animismus verwurzelte Vokalkunst der Sámi. Die Sámi sind die Ureinwohner Nordeuropas. Der in Oslo lebende Klangkünstler\, Sänger und Komponist stammt aus Gamvik\, einem kleinen Fischerort an der nördlichsten Spitze des europäischen Festlandes. Polarnacht\, Mitternachtssonne und elementare Landschaften finden ihren Ausdruck in seinen Kompositionen und Improvisationen und -jenseits aller Worte- in den Facetten seiner Stimme. Als einer der innovativsten samischen Gegenwartskünstler verbindet er sich mit Sounddesigner Audun Strype (u.a. ECM) und den jungen Geigern Hans P. Kjorstad und Rasmus Kjorstad aus dem norwegischen Gudbrandsdal. \nVASSVIK (Sápmi\, Norway) is the crew of deep-voiced experimentalist and progressive Sámi joiker Torgeir Vassvik. He develops new visions of animistic Joik\, the vocal art of the Sámi indigenous people of Northern Europe. Torgeir’s Joik goes beyond words and is embedded in the sound of a 3-stringed guitar\, violins\, Sámi frame drum\, munnharpe and nature instruments. The Arctic Avant-Garde sound is rooted in folk\, classical\, jazz\, improvisational music. Vocal/percussion rituals are updated for the 21st century. As a unique live-performer VASSVIK has played in more than 25 countries of the world. Tuvan artist Sainkho Namtchylak about VASSVIK: «Arctic soundpoetry». The Royal Norwegian Embassy London: «Innovative expression of ancient tradition». Rainforest Festival Malaysia: «Beautiful and surreal». VASSVIK transports you to somewhere else. \n\nAlbums:\n\nSáivu (Idut 2006)\nSápmi (Idut 2009)\nSápmi (Nordic Notes 2015)\nNew album (03/2019) \n\nOctopus Remix: https://www.youtube.com/watch?v=K8srcp8Jan8 \nVASSVIK’s trip from the Arctic to Germany 2015: https://www.youtube.com/watch?v=V1Bd9lZERW4 \nvassvik.com \n© Tuula Sharma Vassvik\n 
URL:https://www.loftkoeln.de/de/event/vassvik-%C2%B7-arctic-avantgarde-sami-joik/
END:VEVENT
END:VCALENDAR