BEGIN:VCALENDAR
VERSION:2.0
PRODID:-//www.loftkoeln.de - ECPv5.14.2.1//NONSGML v1.0//EN
CALSCALE:GREGORIAN
METHOD:PUBLISH
X-WR-CALNAME:www.loftkoeln.de
X-ORIGINAL-URL:https://www.loftkoeln.de
X-WR-CALDESC:Veranstaltungen für www.loftkoeln.de
BEGIN:VTIMEZONE
TZID:UTC
BEGIN:STANDARD
TZOFFSETFROM:+0000
TZOFFSETTO:+0000
TZNAME:UTC
DTSTART:20140101T000000
END:STANDARD
END:VTIMEZONE
BEGIN:VEVENT
DTSTART;TZID=UTC:20140322T203000
DTEND;TZID=UTC:20140322T203000
DTSTAMP:20260424T134944
CREATED:20170323T123733Z
LAST-MODIFIED:20181123T074028Z
UID:4468-1395520200-1395520200@www.loftkoeln.de
SUMMARY:bOLzbANd
DESCRIPTION:Thomas Wilke – ts\nMatthias Bolz – g\nWolfgang Ohndorf – b\nValentin Austen – dr\nJörg Kleine-Tebbe – p \n\nbOLzbANd ist ein Modern Jazz-Quartett mit jetzt mit einem Heimspiel im Kölner LOFT. Die Band legt Wert auf eigene melodiöse Songs und tanzbare Grooves. Auf dem bOLz-Platz tummeln sich Saxofonist Thomas Wilke\, Gitarrist Matthias Bolz\, Schlagzeuger Valentin Austen und Bassist Wolfgang Ohndorf\, die vom gepflegten Mannschaftsspiel bis hin zur solistischen Attacke immer alles geben. Als Einwechselspieler und Edeljoker verstärkt Pianist Jörg Kleine-Tebbe (Berlin) das Team.
URL:https://www.loftkoeln.de/de/event/bolzband-5/
END:VEVENT
END:VCALENDAR