BEGIN:VCALENDAR
VERSION:2.0
PRODID:-//www.loftkoeln.de - ECPv5.14.2.1//NONSGML v1.0//EN
CALSCALE:GREGORIAN
METHOD:PUBLISH
X-WR-CALNAME:www.loftkoeln.de
X-ORIGINAL-URL:https://www.loftkoeln.de
X-WR-CALDESC:Veranstaltungen für www.loftkoeln.de
BEGIN:VTIMEZONE
TZID:UTC
BEGIN:STANDARD
TZOFFSETFROM:+0000
TZOFFSETTO:+0000
TZNAME:UTC
DTSTART:20180101T000000
END:STANDARD
END:VTIMEZONE
BEGIN:VEVENT
DTSTART;TZID=UTC:20180202T203000
DTEND;TZID=UTC:20180202T203000
DTSTAMP:20260424T190454
CREATED:20180109T103035Z
LAST-MODIFIED:20181123T073951Z
UID:7140-1517603400-1517603400@www.loftkoeln.de
SUMMARY:bOLzbANd
DESCRIPTION:Thomas Wilke – Saxophon\nMatthias Bolz – Gitarre\nWolfgang Ohndorf – Bass\nValentin Austen – Schlagzeuger\nUwe Rössler – Piano \n\nbOLzbANd sind ein Modern Jazz-Fünftett mit Heimspiel in Köln. Die Band besteht aus einer ambitionierten Ärzte-Dreierkette\, einem Bachelor of Arts als Antriebsmotor und einer hochprofessionellen Sturmspitze an den Tasten. Sie legt Wert auf eigene melodiöse Songs und tanzbare Grooves. Auf diesem bOLz-Platz tummeln sich somit Saxofonist Thomas Wilke\, Gitarrist Matthias Bolz\, Bassist Wolfgang Ohndorf\, Schlagzeuger Valentin Austen sowie Pianist Uwe Rössler. 
URL:https://www.loftkoeln.de/de/event/bolzband-1/
END:VEVENT
END:VCALENDAR